BEGIN:VCALENDAR
VERSION:2.0
PRODID:-//Dunamis International Gospel Centre - ECPv6.15.17//NONSGML v1.0//EN
CALSCALE:GREGORIAN
METHOD:PUBLISH
X-ORIGINAL-URL:https://dunamisgospel.org
X-WR-CALDESC:Events for Dunamis International Gospel Centre
REFRESH-INTERVAL;VALUE=DURATION:PT1H
X-Robots-Tag:noindex
X-PUBLISHED-TTL:PT1H
BEGIN:VTIMEZONE
TZID:Africa/Lagos
BEGIN:STANDARD
TZOFFSETFROM:+0100
TZOFFSETTO:+0100
TZNAME:WAT
DTSTART:20260101T000000
END:STANDARD
END:VTIMEZONE
BEGIN:VEVENT
DTSTART;TZID=Africa/Lagos:20270601T093000
DTEND;TZID=Africa/Lagos:20270601T123000
DTSTAMP:20260424T124909
CREATED:20250109T231128Z
LAST-MODIFIED:20250109T231128Z
UID:10001276-1811842200-1811853000@dunamisgospel.org
SUMMARY:Healing and Deliverance Service
DESCRIPTION:
URL:https://dunamisgospel.org/calendar/healing-and-deliverance-service/2027-06-01/
ATTACH;FMTTYPE=image/jpeg:https://dunamisgospel.org/wp-content/uploads/2024/12/IMG_3608.jpg
END:VEVENT
BEGIN:VEVENT
DTSTART;TZID=Africa/Lagos:20270602T173000
DTEND;TZID=Africa/Lagos:20270602T203000
DTSTAMP:20260424T124909
CREATED:20250107T201154Z
LAST-MODIFIED:20250109T230000Z
UID:10000513-1811957400-1811968200@dunamisgospel.org
SUMMARY:Power Communion Service
DESCRIPTION:
URL:https://dunamisgospel.org/calendar/power-communion-service/2027-06-02/
ATTACH;FMTTYPE=image/jpeg:https://dunamisgospel.org/wp-content/uploads/2024/12/IMG_3606.jpg
END:VEVENT
BEGIN:VEVENT
DTSTART;TZID=Africa/Lagos:20270606T063000
DTEND;TZID=Africa/Lagos:20270606T123000
DTSTAMP:20260424T124909
CREATED:20250109T230346Z
LAST-MODIFIED:20250109T230346Z
UID:10000679-1812263400-1812285000@dunamisgospel.org
SUMMARY:Blessing Sunday Service
DESCRIPTION:
URL:https://dunamisgospel.org/calendar/blessing-sunday-service/2027-06-06/
ATTACH;FMTTYPE=image/jpeg:https://dunamisgospel.org/wp-content/uploads/2024/12/IMG_3605.jpg
END:VEVENT
BEGIN:VEVENT
DTSTART;TZID=Africa/Lagos:20270608T093000
DTEND;TZID=Africa/Lagos:20270608T123000
DTSTAMP:20260424T124909
CREATED:20250109T231128Z
LAST-MODIFIED:20250109T231128Z
UID:10001277-1812447000-1812457800@dunamisgospel.org
SUMMARY:Healing and Deliverance Service
DESCRIPTION:
URL:https://dunamisgospel.org/calendar/healing-and-deliverance-service/2027-06-08/
ATTACH;FMTTYPE=image/jpeg:https://dunamisgospel.org/wp-content/uploads/2024/12/IMG_3608.jpg
END:VEVENT
BEGIN:VEVENT
DTSTART;TZID=Africa/Lagos:20270609T173000
DTEND;TZID=Africa/Lagos:20270609T203000
DTSTAMP:20260424T124909
CREATED:20250107T201154Z
LAST-MODIFIED:20250109T230000Z
UID:10000514-1812562200-1812573000@dunamisgospel.org
SUMMARY:Power Communion Service
DESCRIPTION:
URL:https://dunamisgospel.org/calendar/power-communion-service/2027-06-09/
ATTACH;FMTTYPE=image/jpeg:https://dunamisgospel.org/wp-content/uploads/2024/12/IMG_3606.jpg
END:VEVENT
BEGIN:VEVENT
DTSTART;TZID=Africa/Lagos:20270613T063000
DTEND;TZID=Africa/Lagos:20270613T123000
DTSTAMP:20260424T124909
CREATED:20250107T211403Z
LAST-MODIFIED:20250109T230958Z
UID:10001121-1812868200-1812889800@dunamisgospel.org
SUMMARY:Anointing Service
DESCRIPTION:
URL:https://dunamisgospel.org/calendar/anointing-service/2027-06-13/
ATTACH;FMTTYPE=image/jpeg:https://dunamisgospel.org/wp-content/uploads/2024/12/IMG_3603.jpg
END:VEVENT
BEGIN:VEVENT
DTSTART;TZID=Africa/Lagos:20270615T093000
DTEND;TZID=Africa/Lagos:20270615T123000
DTSTAMP:20260424T124909
CREATED:20250109T231128Z
LAST-MODIFIED:20250109T231128Z
UID:10001278-1813051800-1813062600@dunamisgospel.org
SUMMARY:Healing and Deliverance Service
DESCRIPTION:
URL:https://dunamisgospel.org/calendar/healing-and-deliverance-service/2027-06-15/
ATTACH;FMTTYPE=image/jpeg:https://dunamisgospel.org/wp-content/uploads/2024/12/IMG_3608.jpg
END:VEVENT
BEGIN:VEVENT
DTSTART;TZID=Africa/Lagos:20270616T173000
DTEND;TZID=Africa/Lagos:20270616T203000
DTSTAMP:20260424T124909
CREATED:20250107T201154Z
LAST-MODIFIED:20250109T230000Z
UID:10000515-1813167000-1813177800@dunamisgospel.org
SUMMARY:Power Communion Service
DESCRIPTION:
URL:https://dunamisgospel.org/calendar/power-communion-service/2027-06-16/
ATTACH;FMTTYPE=image/jpeg:https://dunamisgospel.org/wp-content/uploads/2024/12/IMG_3606.jpg
END:VEVENT
BEGIN:VEVENT
DTSTART;TZID=Africa/Lagos:20270620T063000
DTEND;TZID=Africa/Lagos:20270620T123000
DTSTAMP:20260424T124909
CREATED:20250109T231514Z
LAST-MODIFIED:20250109T231514Z
UID:10001442-1813473000-1813494600@dunamisgospel.org
SUMMARY:Impartation Service
DESCRIPTION:
URL:https://dunamisgospel.org/calendar/impartation-service/2027-06-20/
ATTACH;FMTTYPE=image/jpeg:https://dunamisgospel.org/wp-content/uploads/2024/12/IMG_3609.jpg
END:VEVENT
BEGIN:VEVENT
DTSTART;TZID=Africa/Lagos:20270622T093000
DTEND;TZID=Africa/Lagos:20270622T123000
DTSTAMP:20260424T124909
CREATED:20250109T231128Z
LAST-MODIFIED:20250109T231128Z
UID:10001279-1813656600-1813667400@dunamisgospel.org
SUMMARY:Healing and Deliverance Service
DESCRIPTION:
URL:https://dunamisgospel.org/calendar/healing-and-deliverance-service/2027-06-22/
ATTACH;FMTTYPE=image/jpeg:https://dunamisgospel.org/wp-content/uploads/2024/12/IMG_3608.jpg
END:VEVENT
BEGIN:VEVENT
DTSTART;TZID=Africa/Lagos:20270623T173000
DTEND;TZID=Africa/Lagos:20270623T203000
DTSTAMP:20260424T124909
CREATED:20250107T201154Z
LAST-MODIFIED:20250109T230000Z
UID:10000516-1813771800-1813782600@dunamisgospel.org
SUMMARY:Power Communion Service
DESCRIPTION:
URL:https://dunamisgospel.org/calendar/power-communion-service/2027-06-23/
ATTACH;FMTTYPE=image/jpeg:https://dunamisgospel.org/wp-content/uploads/2024/12/IMG_3606.jpg
END:VEVENT
BEGIN:VEVENT
DTSTART;TZID=Africa/Lagos:20270627T063000
DTEND;TZID=Africa/Lagos:20270627T123000
DTSTAMP:20260424T124909
CREATED:20250109T231636Z
LAST-MODIFIED:20250109T231636Z
UID:10001502-1814077800-1814099400@dunamisgospel.org
SUMMARY:Testimonies and Thanksgiving Service
DESCRIPTION:
URL:https://dunamisgospel.org/calendar/testimonies-and-thanksgiving-service/2027-06-27/
ATTACH;FMTTYPE=image/jpeg:https://dunamisgospel.org/wp-content/uploads/2024/12/IMG_3607.jpg
END:VEVENT
BEGIN:VEVENT
DTSTART;TZID=Africa/Lagos:20270629T093000
DTEND;TZID=Africa/Lagos:20270629T123000
DTSTAMP:20260424T124909
CREATED:20250109T231128Z
LAST-MODIFIED:20250109T231128Z
UID:10001280-1814261400-1814272200@dunamisgospel.org
SUMMARY:Healing and Deliverance Service
DESCRIPTION:
URL:https://dunamisgospel.org/calendar/healing-and-deliverance-service/2027-06-29/
ATTACH;FMTTYPE=image/jpeg:https://dunamisgospel.org/wp-content/uploads/2024/12/IMG_3608.jpg
END:VEVENT
BEGIN:VEVENT
DTSTART;TZID=Africa/Lagos:20270630T173000
DTEND;TZID=Africa/Lagos:20270630T203000
DTSTAMP:20260424T124909
CREATED:20250107T201154Z
LAST-MODIFIED:20250109T230000Z
UID:10000517-1814376600-1814387400@dunamisgospel.org
SUMMARY:Power Communion Service
DESCRIPTION:
URL:https://dunamisgospel.org/calendar/power-communion-service/2027-06-30/
ATTACH;FMTTYPE=image/jpeg:https://dunamisgospel.org/wp-content/uploads/2024/12/IMG_3606.jpg
END:VEVENT
END:VCALENDAR