BEGIN:VCALENDAR
VERSION:2.0
PRODID:-//Dunamis International Gospel Centre - ECPv6.15.17//NONSGML v1.0//EN
CALSCALE:GREGORIAN
METHOD:PUBLISH
X-ORIGINAL-URL:https://dunamisgospel.org
X-WR-CALDESC:Events for Dunamis International Gospel Centre
REFRESH-INTERVAL;VALUE=DURATION:PT1H
X-Robots-Tag:noindex
X-PUBLISHED-TTL:PT1H
BEGIN:VTIMEZONE
TZID:Africa/Lagos
BEGIN:STANDARD
TZOFFSETFROM:+0100
TZOFFSETTO:+0100
TZNAME:WAT
DTSTART:20260101T000000
END:STANDARD
END:VTIMEZONE
BEGIN:VEVENT
DTSTART;TZID=Africa/Lagos:20270502T063000
DTEND;TZID=Africa/Lagos:20270502T123000
DTSTAMP:20260424T112446
CREATED:20250109T230346Z
LAST-MODIFIED:20250109T230346Z
UID:10000678-1809239400-1809261000@dunamisgospel.org
SUMMARY:Blessing Sunday Service
DESCRIPTION:
URL:https://dunamisgospel.org/calendar/blessing-sunday-service/2027-05-02/
ATTACH;FMTTYPE=image/jpeg:https://dunamisgospel.org/wp-content/uploads/2024/12/IMG_3605.jpg
END:VEVENT
BEGIN:VEVENT
DTSTART;TZID=Africa/Lagos:20270504T093000
DTEND;TZID=Africa/Lagos:20270504T123000
DTSTAMP:20260424T112446
CREATED:20250109T231128Z
LAST-MODIFIED:20250109T231128Z
UID:10001272-1809423000-1809433800@dunamisgospel.org
SUMMARY:Healing and Deliverance Service
DESCRIPTION:
URL:https://dunamisgospel.org/calendar/healing-and-deliverance-service/2027-05-04/
ATTACH;FMTTYPE=image/jpeg:https://dunamisgospel.org/wp-content/uploads/2024/12/IMG_3608.jpg
END:VEVENT
BEGIN:VEVENT
DTSTART;TZID=Africa/Lagos:20270505T173000
DTEND;TZID=Africa/Lagos:20270505T203000
DTSTAMP:20260424T112446
CREATED:20250107T201154Z
LAST-MODIFIED:20250109T230000Z
UID:10000509-1809538200-1809549000@dunamisgospel.org
SUMMARY:Power Communion Service
DESCRIPTION:
URL:https://dunamisgospel.org/calendar/power-communion-service/2027-05-05/
ATTACH;FMTTYPE=image/jpeg:https://dunamisgospel.org/wp-content/uploads/2024/12/IMG_3606.jpg
END:VEVENT
BEGIN:VEVENT
DTSTART;TZID=Africa/Lagos:20270509T063000
DTEND;TZID=Africa/Lagos:20270509T123000
DTSTAMP:20260424T112446
CREATED:20250107T211403Z
LAST-MODIFIED:20250109T230958Z
UID:10001120-1809844200-1809865800@dunamisgospel.org
SUMMARY:Anointing Service
DESCRIPTION:
URL:https://dunamisgospel.org/calendar/anointing-service/2027-05-09/
ATTACH;FMTTYPE=image/jpeg:https://dunamisgospel.org/wp-content/uploads/2024/12/IMG_3603.jpg
END:VEVENT
BEGIN:VEVENT
DTSTART;TZID=Africa/Lagos:20270511T093000
DTEND;TZID=Africa/Lagos:20270511T123000
DTSTAMP:20260424T112446
CREATED:20250109T231128Z
LAST-MODIFIED:20250109T231128Z
UID:10001273-1810027800-1810038600@dunamisgospel.org
SUMMARY:Healing and Deliverance Service
DESCRIPTION:
URL:https://dunamisgospel.org/calendar/healing-and-deliverance-service/2027-05-11/
ATTACH;FMTTYPE=image/jpeg:https://dunamisgospel.org/wp-content/uploads/2024/12/IMG_3608.jpg
END:VEVENT
BEGIN:VEVENT
DTSTART;TZID=Africa/Lagos:20270512T173000
DTEND;TZID=Africa/Lagos:20270512T203000
DTSTAMP:20260424T112446
CREATED:20250107T201154Z
LAST-MODIFIED:20250109T230000Z
UID:10000510-1810143000-1810153800@dunamisgospel.org
SUMMARY:Power Communion Service
DESCRIPTION:
URL:https://dunamisgospel.org/calendar/power-communion-service/2027-05-12/
ATTACH;FMTTYPE=image/jpeg:https://dunamisgospel.org/wp-content/uploads/2024/12/IMG_3606.jpg
END:VEVENT
BEGIN:VEVENT
DTSTART;TZID=Africa/Lagos:20270516T063000
DTEND;TZID=Africa/Lagos:20270516T123000
DTSTAMP:20260424T112446
CREATED:20250109T231514Z
LAST-MODIFIED:20250109T231514Z
UID:10001441-1810449000-1810470600@dunamisgospel.org
SUMMARY:Impartation Service
DESCRIPTION:
URL:https://dunamisgospel.org/calendar/impartation-service/2027-05-16/
ATTACH;FMTTYPE=image/jpeg:https://dunamisgospel.org/wp-content/uploads/2024/12/IMG_3609.jpg
END:VEVENT
BEGIN:VEVENT
DTSTART;TZID=Africa/Lagos:20270518T093000
DTEND;TZID=Africa/Lagos:20270518T123000
DTSTAMP:20260424T112446
CREATED:20250109T231128Z
LAST-MODIFIED:20250109T231128Z
UID:10001274-1810632600-1810643400@dunamisgospel.org
SUMMARY:Healing and Deliverance Service
DESCRIPTION:
URL:https://dunamisgospel.org/calendar/healing-and-deliverance-service/2027-05-18/
ATTACH;FMTTYPE=image/jpeg:https://dunamisgospel.org/wp-content/uploads/2024/12/IMG_3608.jpg
END:VEVENT
BEGIN:VEVENT
DTSTART;TZID=Africa/Lagos:20270519T173000
DTEND;TZID=Africa/Lagos:20270519T203000
DTSTAMP:20260424T112446
CREATED:20250107T201154Z
LAST-MODIFIED:20250109T230000Z
UID:10000511-1810747800-1810758600@dunamisgospel.org
SUMMARY:Power Communion Service
DESCRIPTION:
URL:https://dunamisgospel.org/calendar/power-communion-service/2027-05-19/
ATTACH;FMTTYPE=image/jpeg:https://dunamisgospel.org/wp-content/uploads/2024/12/IMG_3606.jpg
END:VEVENT
BEGIN:VEVENT
DTSTART;TZID=Africa/Lagos:20270523T063000
DTEND;TZID=Africa/Lagos:20270523T123000
DTSTAMP:20260424T112446
CREATED:20250109T231636Z
LAST-MODIFIED:20250109T231636Z
UID:10001501-1811053800-1811075400@dunamisgospel.org
SUMMARY:Testimonies and Thanksgiving Service
DESCRIPTION:
URL:https://dunamisgospel.org/calendar/testimonies-and-thanksgiving-service/2027-05-23/
ATTACH;FMTTYPE=image/jpeg:https://dunamisgospel.org/wp-content/uploads/2024/12/IMG_3607.jpg
END:VEVENT
BEGIN:VEVENT
DTSTART;TZID=Africa/Lagos:20270525T093000
DTEND;TZID=Africa/Lagos:20270525T123000
DTSTAMP:20260424T112446
CREATED:20250109T231128Z
LAST-MODIFIED:20250109T231128Z
UID:10001275-1811237400-1811248200@dunamisgospel.org
SUMMARY:Healing and Deliverance Service
DESCRIPTION:
URL:https://dunamisgospel.org/calendar/healing-and-deliverance-service/2027-05-25/
ATTACH;FMTTYPE=image/jpeg:https://dunamisgospel.org/wp-content/uploads/2024/12/IMG_3608.jpg
END:VEVENT
BEGIN:VEVENT
DTSTART;TZID=Africa/Lagos:20270526T173000
DTEND;TZID=Africa/Lagos:20270526T203000
DTSTAMP:20260424T112446
CREATED:20250107T201154Z
LAST-MODIFIED:20250109T230000Z
UID:10000512-1811352600-1811363400@dunamisgospel.org
SUMMARY:Power Communion Service
DESCRIPTION:
URL:https://dunamisgospel.org/calendar/power-communion-service/2027-05-26/
ATTACH;FMTTYPE=image/jpeg:https://dunamisgospel.org/wp-content/uploads/2024/12/IMG_3606.jpg
END:VEVENT
END:VCALENDAR