BEGIN:VCALENDAR
VERSION:2.0
PRODID:-//Dunamis International Gospel Centre - ECPv6.15.17//NONSGML v1.0//EN
CALSCALE:GREGORIAN
METHOD:PUBLISH
X-WR-CALNAME:Dunamis International Gospel Centre
X-ORIGINAL-URL:https://dunamisgospel.org
X-WR-CALDESC:Events for Dunamis International Gospel Centre
REFRESH-INTERVAL;VALUE=DURATION:PT1H
X-Robots-Tag:noindex
X-PUBLISHED-TTL:PT1H
BEGIN:VTIMEZONE
TZID:Africa/Lagos
BEGIN:STANDARD
TZOFFSETFROM:+0100
TZOFFSETTO:+0100
TZNAME:WAT
DTSTART:20260101T000000
END:STANDARD
END:VTIMEZONE
BEGIN:VEVENT
DTSTART;TZID=Africa/Lagos:20270404T063000
DTEND;TZID=Africa/Lagos:20270404T123000
DTSTAMP:20260424T100155
CREATED:20250109T230346Z
LAST-MODIFIED:20250109T230346Z
UID:10000677-1806820200-1806841800@dunamisgospel.org
SUMMARY:Blessing Sunday Service
DESCRIPTION:
URL:https://dunamisgospel.org/calendar/blessing-sunday-service/2027-04-04/
ATTACH;FMTTYPE=image/jpeg:https://dunamisgospel.org/wp-content/uploads/2024/12/IMG_3605.jpg
END:VEVENT
BEGIN:VEVENT
DTSTART;TZID=Africa/Lagos:20270406T093000
DTEND;TZID=Africa/Lagos:20270406T123000
DTSTAMP:20260424T100155
CREATED:20250109T231128Z
LAST-MODIFIED:20250109T231128Z
UID:10001268-1807003800-1807014600@dunamisgospel.org
SUMMARY:Healing and Deliverance Service
DESCRIPTION:
URL:https://dunamisgospel.org/calendar/healing-and-deliverance-service/2027-04-06/
ATTACH;FMTTYPE=image/jpeg:https://dunamisgospel.org/wp-content/uploads/2024/12/IMG_3608.jpg
END:VEVENT
BEGIN:VEVENT
DTSTART;TZID=Africa/Lagos:20270407T173000
DTEND;TZID=Africa/Lagos:20270407T203000
DTSTAMP:20260424T100155
CREATED:20250107T201154Z
LAST-MODIFIED:20250109T230000Z
UID:10000505-1807119000-1807129800@dunamisgospel.org
SUMMARY:Power Communion Service
DESCRIPTION:
URL:https://dunamisgospel.org/calendar/power-communion-service/2027-04-07/
ATTACH;FMTTYPE=image/jpeg:https://dunamisgospel.org/wp-content/uploads/2024/12/IMG_3606.jpg
END:VEVENT
BEGIN:VEVENT
DTSTART;TZID=Africa/Lagos:20270411T063000
DTEND;TZID=Africa/Lagos:20270411T123000
DTSTAMP:20260424T100155
CREATED:20250107T211403Z
LAST-MODIFIED:20250109T230958Z
UID:10001119-1807425000-1807446600@dunamisgospel.org
SUMMARY:Anointing Service
DESCRIPTION:
URL:https://dunamisgospel.org/calendar/anointing-service/2027-04-11/
ATTACH;FMTTYPE=image/jpeg:https://dunamisgospel.org/wp-content/uploads/2024/12/IMG_3603.jpg
END:VEVENT
BEGIN:VEVENT
DTSTART;TZID=Africa/Lagos:20270413T093000
DTEND;TZID=Africa/Lagos:20270413T123000
DTSTAMP:20260424T100155
CREATED:20250109T231128Z
LAST-MODIFIED:20250109T231128Z
UID:10001269-1807608600-1807619400@dunamisgospel.org
SUMMARY:Healing and Deliverance Service
DESCRIPTION:
URL:https://dunamisgospel.org/calendar/healing-and-deliverance-service/2027-04-13/
ATTACH;FMTTYPE=image/jpeg:https://dunamisgospel.org/wp-content/uploads/2024/12/IMG_3608.jpg
END:VEVENT
BEGIN:VEVENT
DTSTART;TZID=Africa/Lagos:20270414T173000
DTEND;TZID=Africa/Lagos:20270414T203000
DTSTAMP:20260424T100155
CREATED:20250107T201154Z
LAST-MODIFIED:20250109T230000Z
UID:10000506-1807723800-1807734600@dunamisgospel.org
SUMMARY:Power Communion Service
DESCRIPTION:
URL:https://dunamisgospel.org/calendar/power-communion-service/2027-04-14/
ATTACH;FMTTYPE=image/jpeg:https://dunamisgospel.org/wp-content/uploads/2024/12/IMG_3606.jpg
END:VEVENT
BEGIN:VEVENT
DTSTART;TZID=Africa/Lagos:20270418T063000
DTEND;TZID=Africa/Lagos:20270418T123000
DTSTAMP:20260424T100155
CREATED:20250109T231514Z
LAST-MODIFIED:20250109T231514Z
UID:10001440-1808029800-1808051400@dunamisgospel.org
SUMMARY:Impartation Service
DESCRIPTION:
URL:https://dunamisgospel.org/calendar/impartation-service/2027-04-18/
ATTACH;FMTTYPE=image/jpeg:https://dunamisgospel.org/wp-content/uploads/2024/12/IMG_3609.jpg
END:VEVENT
BEGIN:VEVENT
DTSTART;TZID=Africa/Lagos:20270420T093000
DTEND;TZID=Africa/Lagos:20270420T123000
DTSTAMP:20260424T100155
CREATED:20250109T231128Z
LAST-MODIFIED:20250109T231128Z
UID:10001270-1808213400-1808224200@dunamisgospel.org
SUMMARY:Healing and Deliverance Service
DESCRIPTION:
URL:https://dunamisgospel.org/calendar/healing-and-deliverance-service/2027-04-20/
ATTACH;FMTTYPE=image/jpeg:https://dunamisgospel.org/wp-content/uploads/2024/12/IMG_3608.jpg
END:VEVENT
BEGIN:VEVENT
DTSTART;TZID=Africa/Lagos:20270421T173000
DTEND;TZID=Africa/Lagos:20270421T203000
DTSTAMP:20260424T100155
CREATED:20250107T201154Z
LAST-MODIFIED:20250109T230000Z
UID:10000507-1808328600-1808339400@dunamisgospel.org
SUMMARY:Power Communion Service
DESCRIPTION:
URL:https://dunamisgospel.org/calendar/power-communion-service/2027-04-21/
ATTACH;FMTTYPE=image/jpeg:https://dunamisgospel.org/wp-content/uploads/2024/12/IMG_3606.jpg
END:VEVENT
BEGIN:VEVENT
DTSTART;TZID=Africa/Lagos:20270425T063000
DTEND;TZID=Africa/Lagos:20270425T123000
DTSTAMP:20260424T100155
CREATED:20250109T231636Z
LAST-MODIFIED:20250109T231636Z
UID:10001500-1808634600-1808656200@dunamisgospel.org
SUMMARY:Testimonies and Thanksgiving Service
DESCRIPTION:
URL:https://dunamisgospel.org/calendar/testimonies-and-thanksgiving-service/2027-04-25/
ATTACH;FMTTYPE=image/jpeg:https://dunamisgospel.org/wp-content/uploads/2024/12/IMG_3607.jpg
END:VEVENT
BEGIN:VEVENT
DTSTART;TZID=Africa/Lagos:20270427T093000
DTEND;TZID=Africa/Lagos:20270427T123000
DTSTAMP:20260424T100155
CREATED:20250109T231128Z
LAST-MODIFIED:20250109T231128Z
UID:10001271-1808818200-1808829000@dunamisgospel.org
SUMMARY:Healing and Deliverance Service
DESCRIPTION:
URL:https://dunamisgospel.org/calendar/healing-and-deliverance-service/2027-04-27/
ATTACH;FMTTYPE=image/jpeg:https://dunamisgospel.org/wp-content/uploads/2024/12/IMG_3608.jpg
END:VEVENT
BEGIN:VEVENT
DTSTART;TZID=Africa/Lagos:20270428T173000
DTEND;TZID=Africa/Lagos:20270428T203000
DTSTAMP:20260424T100155
CREATED:20250107T201154Z
LAST-MODIFIED:20250109T230000Z
UID:10000508-1808933400-1808944200@dunamisgospel.org
SUMMARY:Power Communion Service
DESCRIPTION:
URL:https://dunamisgospel.org/calendar/power-communion-service/2027-04-28/
ATTACH;FMTTYPE=image/jpeg:https://dunamisgospel.org/wp-content/uploads/2024/12/IMG_3606.jpg
END:VEVENT
END:VCALENDAR