BEGIN:VCALENDAR
VERSION:2.0
PRODID:-//Dunamis International Gospel Centre - ECPv6.15.17//NONSGML v1.0//EN
CALSCALE:GREGORIAN
METHOD:PUBLISH
X-ORIGINAL-URL:https://dunamisgospel.org
X-WR-CALDESC:Events for Dunamis International Gospel Centre
REFRESH-INTERVAL;VALUE=DURATION:PT1H
X-Robots-Tag:noindex
X-PUBLISHED-TTL:PT1H
BEGIN:VTIMEZONE
TZID:Africa/Lagos
BEGIN:STANDARD
TZOFFSETFROM:+0100
TZOFFSETTO:+0100
TZNAME:WAT
DTSTART:20260101T000000
END:STANDARD
END:VTIMEZONE
BEGIN:VEVENT
DTSTART;TZID=Africa/Lagos:20270202T093000
DTEND;TZID=Africa/Lagos:20270202T123000
DTSTAMP:20260424T065947
CREATED:20250109T231128Z
LAST-MODIFIED:20250109T231128Z
UID:10001259-1801560600-1801571400@dunamisgospel.org
SUMMARY:Healing and Deliverance Service
DESCRIPTION:
URL:https://dunamisgospel.org/calendar/healing-and-deliverance-service/2027-02-02/
ATTACH;FMTTYPE=image/jpeg:https://dunamisgospel.org/wp-content/uploads/2024/12/IMG_3608.jpg
END:VEVENT
BEGIN:VEVENT
DTSTART;TZID=Africa/Lagos:20270203T173000
DTEND;TZID=Africa/Lagos:20270203T203000
DTSTAMP:20260424T065947
CREATED:20250107T201154Z
LAST-MODIFIED:20250109T230000Z
UID:10000496-1801675800-1801686600@dunamisgospel.org
SUMMARY:Power Communion Service
DESCRIPTION:
URL:https://dunamisgospel.org/calendar/power-communion-service/2027-02-03/
ATTACH;FMTTYPE=image/jpeg:https://dunamisgospel.org/wp-content/uploads/2024/12/IMG_3606.jpg
END:VEVENT
BEGIN:VEVENT
DTSTART;TZID=Africa/Lagos:20270207T063000
DTEND;TZID=Africa/Lagos:20270207T123000
DTSTAMP:20260424T065947
CREATED:20250109T230346Z
LAST-MODIFIED:20250109T230346Z
UID:10000675-1801981800-1802003400@dunamisgospel.org
SUMMARY:Blessing Sunday Service
DESCRIPTION:
URL:https://dunamisgospel.org/calendar/blessing-sunday-service/2027-02-07/
ATTACH;FMTTYPE=image/jpeg:https://dunamisgospel.org/wp-content/uploads/2024/12/IMG_3605.jpg
END:VEVENT
BEGIN:VEVENT
DTSTART;TZID=Africa/Lagos:20270209T093000
DTEND;TZID=Africa/Lagos:20270209T123000
DTSTAMP:20260424T065947
CREATED:20250109T231128Z
LAST-MODIFIED:20250109T231128Z
UID:10001260-1802165400-1802176200@dunamisgospel.org
SUMMARY:Healing and Deliverance Service
DESCRIPTION:
URL:https://dunamisgospel.org/calendar/healing-and-deliverance-service/2027-02-09/
ATTACH;FMTTYPE=image/jpeg:https://dunamisgospel.org/wp-content/uploads/2024/12/IMG_3608.jpg
END:VEVENT
BEGIN:VEVENT
DTSTART;TZID=Africa/Lagos:20270210T173000
DTEND;TZID=Africa/Lagos:20270210T203000
DTSTAMP:20260424T065947
CREATED:20250107T201154Z
LAST-MODIFIED:20250109T230000Z
UID:10000497-1802280600-1802291400@dunamisgospel.org
SUMMARY:Power Communion Service
DESCRIPTION:
URL:https://dunamisgospel.org/calendar/power-communion-service/2027-02-10/
ATTACH;FMTTYPE=image/jpeg:https://dunamisgospel.org/wp-content/uploads/2024/12/IMG_3606.jpg
END:VEVENT
BEGIN:VEVENT
DTSTART;TZID=Africa/Lagos:20270214T063000
DTEND;TZID=Africa/Lagos:20270214T123000
DTSTAMP:20260424T065947
CREATED:20250107T211403Z
LAST-MODIFIED:20250109T230958Z
UID:10001117-1802586600-1802608200@dunamisgospel.org
SUMMARY:Anointing Service
DESCRIPTION:
URL:https://dunamisgospel.org/calendar/anointing-service/2027-02-14/
ATTACH;FMTTYPE=image/jpeg:https://dunamisgospel.org/wp-content/uploads/2024/12/IMG_3603.jpg
END:VEVENT
BEGIN:VEVENT
DTSTART;TZID=Africa/Lagos:20270216T093000
DTEND;TZID=Africa/Lagos:20270216T123000
DTSTAMP:20260424T065947
CREATED:20250109T231128Z
LAST-MODIFIED:20250109T231128Z
UID:10001261-1802770200-1802781000@dunamisgospel.org
SUMMARY:Healing and Deliverance Service
DESCRIPTION:
URL:https://dunamisgospel.org/calendar/healing-and-deliverance-service/2027-02-16/
ATTACH;FMTTYPE=image/jpeg:https://dunamisgospel.org/wp-content/uploads/2024/12/IMG_3608.jpg
END:VEVENT
BEGIN:VEVENT
DTSTART;TZID=Africa/Lagos:20270217T173000
DTEND;TZID=Africa/Lagos:20270217T203000
DTSTAMP:20260424T065947
CREATED:20250107T201154Z
LAST-MODIFIED:20250109T230000Z
UID:10000498-1802885400-1802896200@dunamisgospel.org
SUMMARY:Power Communion Service
DESCRIPTION:
URL:https://dunamisgospel.org/calendar/power-communion-service/2027-02-17/
ATTACH;FMTTYPE=image/jpeg:https://dunamisgospel.org/wp-content/uploads/2024/12/IMG_3606.jpg
END:VEVENT
BEGIN:VEVENT
DTSTART;TZID=Africa/Lagos:20270221T063000
DTEND;TZID=Africa/Lagos:20270221T123000
DTSTAMP:20260424T065947
CREATED:20250109T231514Z
LAST-MODIFIED:20250109T231514Z
UID:10001438-1803191400-1803213000@dunamisgospel.org
SUMMARY:Impartation Service
DESCRIPTION:
URL:https://dunamisgospel.org/calendar/impartation-service/2027-02-21/
ATTACH;FMTTYPE=image/jpeg:https://dunamisgospel.org/wp-content/uploads/2024/12/IMG_3609.jpg
END:VEVENT
BEGIN:VEVENT
DTSTART;TZID=Africa/Lagos:20270223T093000
DTEND;TZID=Africa/Lagos:20270223T123000
DTSTAMP:20260424T065947
CREATED:20250109T231128Z
LAST-MODIFIED:20250109T231128Z
UID:10001262-1803375000-1803385800@dunamisgospel.org
SUMMARY:Healing and Deliverance Service
DESCRIPTION:
URL:https://dunamisgospel.org/calendar/healing-and-deliverance-service/2027-02-23/
ATTACH;FMTTYPE=image/jpeg:https://dunamisgospel.org/wp-content/uploads/2024/12/IMG_3608.jpg
END:VEVENT
BEGIN:VEVENT
DTSTART;TZID=Africa/Lagos:20270224T173000
DTEND;TZID=Africa/Lagos:20270224T203000
DTSTAMP:20260424T065947
CREATED:20250107T201154Z
LAST-MODIFIED:20250109T230000Z
UID:10000499-1803490200-1803501000@dunamisgospel.org
SUMMARY:Power Communion Service
DESCRIPTION:
URL:https://dunamisgospel.org/calendar/power-communion-service/2027-02-24/
ATTACH;FMTTYPE=image/jpeg:https://dunamisgospel.org/wp-content/uploads/2024/12/IMG_3606.jpg
END:VEVENT
BEGIN:VEVENT
DTSTART;TZID=Africa/Lagos:20270228T063000
DTEND;TZID=Africa/Lagos:20270228T123000
DTSTAMP:20260424T065947
CREATED:20250109T231636Z
LAST-MODIFIED:20250109T231636Z
UID:10001498-1803796200-1803817800@dunamisgospel.org
SUMMARY:Testimonies and Thanksgiving Service
DESCRIPTION:
URL:https://dunamisgospel.org/calendar/testimonies-and-thanksgiving-service/2027-02-28/
ATTACH;FMTTYPE=image/jpeg:https://dunamisgospel.org/wp-content/uploads/2024/12/IMG_3607.jpg
END:VEVENT
END:VCALENDAR