BEGIN:VCALENDAR
VERSION:2.0
PRODID:-//Dunamis International Gospel Centre - ECPv6.15.17//NONSGML v1.0//EN
CALSCALE:GREGORIAN
METHOD:PUBLISH
X-WR-CALNAME:Dunamis International Gospel Centre
X-ORIGINAL-URL:https://dunamisgospel.org
X-WR-CALDESC:Events for Dunamis International Gospel Centre
REFRESH-INTERVAL;VALUE=DURATION:PT1H
X-Robots-Tag:noindex
X-PUBLISHED-TTL:PT1H
BEGIN:VTIMEZONE
TZID:Africa/Lagos
BEGIN:STANDARD
TZOFFSETFROM:+0100
TZOFFSETTO:+0100
TZNAME:WAT
DTSTART:20260101T000000
END:STANDARD
END:VTIMEZONE
BEGIN:VEVENT
DTSTART;TZID=Africa/Lagos:20270103T063000
DTEND;TZID=Africa/Lagos:20270103T123000
DTSTAMP:20260424T053612
CREATED:20250109T230346Z
LAST-MODIFIED:20250109T230346Z
UID:10000674-1798957800-1798979400@dunamisgospel.org
SUMMARY:Blessing Sunday Service
DESCRIPTION:
URL:https://dunamisgospel.org/calendar/blessing-sunday-service/2027-01-03/
ATTACH;FMTTYPE=image/jpeg:https://dunamisgospel.org/wp-content/uploads/2024/12/IMG_3605.jpg
END:VEVENT
BEGIN:VEVENT
DTSTART;TZID=Africa/Lagos:20270105T093000
DTEND;TZID=Africa/Lagos:20270105T123000
DTSTAMP:20260424T053612
CREATED:20250109T231128Z
LAST-MODIFIED:20250109T231128Z
UID:10001255-1799141400-1799152200@dunamisgospel.org
SUMMARY:Healing and Deliverance Service
DESCRIPTION:
URL:https://dunamisgospel.org/calendar/healing-and-deliverance-service/2027-01-05/
ATTACH;FMTTYPE=image/jpeg:https://dunamisgospel.org/wp-content/uploads/2024/12/IMG_3608.jpg
END:VEVENT
BEGIN:VEVENT
DTSTART;TZID=Africa/Lagos:20270106T173000
DTEND;TZID=Africa/Lagos:20270106T203000
DTSTAMP:20260424T053612
CREATED:20250107T201154Z
LAST-MODIFIED:20250109T230000Z
UID:10000492-1799256600-1799267400@dunamisgospel.org
SUMMARY:Power Communion Service
DESCRIPTION:
URL:https://dunamisgospel.org/calendar/power-communion-service/2027-01-06/
ATTACH;FMTTYPE=image/jpeg:https://dunamisgospel.org/wp-content/uploads/2024/12/IMG_3606.jpg
END:VEVENT
BEGIN:VEVENT
DTSTART;TZID=Africa/Lagos:20270110T063000
DTEND;TZID=Africa/Lagos:20270110T123000
DTSTAMP:20260424T053612
CREATED:20250107T211403Z
LAST-MODIFIED:20250109T230958Z
UID:10001116-1799562600-1799584200@dunamisgospel.org
SUMMARY:Anointing Service
DESCRIPTION:
URL:https://dunamisgospel.org/calendar/anointing-service/2027-01-10/
ATTACH;FMTTYPE=image/jpeg:https://dunamisgospel.org/wp-content/uploads/2024/12/IMG_3603.jpg
END:VEVENT
BEGIN:VEVENT
DTSTART;TZID=Africa/Lagos:20270112T093000
DTEND;TZID=Africa/Lagos:20270112T123000
DTSTAMP:20260424T053612
CREATED:20250109T231128Z
LAST-MODIFIED:20250109T231128Z
UID:10001256-1799746200-1799757000@dunamisgospel.org
SUMMARY:Healing and Deliverance Service
DESCRIPTION:
URL:https://dunamisgospel.org/calendar/healing-and-deliverance-service/2027-01-12/
ATTACH;FMTTYPE=image/jpeg:https://dunamisgospel.org/wp-content/uploads/2024/12/IMG_3608.jpg
END:VEVENT
BEGIN:VEVENT
DTSTART;TZID=Africa/Lagos:20270113T173000
DTEND;TZID=Africa/Lagos:20270113T203000
DTSTAMP:20260424T053612
CREATED:20250107T201154Z
LAST-MODIFIED:20250109T230000Z
UID:10000493-1799861400-1799872200@dunamisgospel.org
SUMMARY:Power Communion Service
DESCRIPTION:
URL:https://dunamisgospel.org/calendar/power-communion-service/2027-01-13/
ATTACH;FMTTYPE=image/jpeg:https://dunamisgospel.org/wp-content/uploads/2024/12/IMG_3606.jpg
END:VEVENT
BEGIN:VEVENT
DTSTART;TZID=Africa/Lagos:20270117T063000
DTEND;TZID=Africa/Lagos:20270117T123000
DTSTAMP:20260424T053612
CREATED:20250109T231514Z
LAST-MODIFIED:20250109T231514Z
UID:10001437-1800167400-1800189000@dunamisgospel.org
SUMMARY:Impartation Service
DESCRIPTION:
URL:https://dunamisgospel.org/calendar/impartation-service/2027-01-17/
ATTACH;FMTTYPE=image/jpeg:https://dunamisgospel.org/wp-content/uploads/2024/12/IMG_3609.jpg
END:VEVENT
BEGIN:VEVENT
DTSTART;TZID=Africa/Lagos:20270119T093000
DTEND;TZID=Africa/Lagos:20270119T123000
DTSTAMP:20260424T053612
CREATED:20250109T231128Z
LAST-MODIFIED:20250109T231128Z
UID:10001257-1800351000-1800361800@dunamisgospel.org
SUMMARY:Healing and Deliverance Service
DESCRIPTION:
URL:https://dunamisgospel.org/calendar/healing-and-deliverance-service/2027-01-19/
ATTACH;FMTTYPE=image/jpeg:https://dunamisgospel.org/wp-content/uploads/2024/12/IMG_3608.jpg
END:VEVENT
BEGIN:VEVENT
DTSTART;TZID=Africa/Lagos:20270120T173000
DTEND;TZID=Africa/Lagos:20270120T203000
DTSTAMP:20260424T053612
CREATED:20250107T201154Z
LAST-MODIFIED:20250109T230000Z
UID:10000494-1800466200-1800477000@dunamisgospel.org
SUMMARY:Power Communion Service
DESCRIPTION:
URL:https://dunamisgospel.org/calendar/power-communion-service/2027-01-20/
ATTACH;FMTTYPE=image/jpeg:https://dunamisgospel.org/wp-content/uploads/2024/12/IMG_3606.jpg
END:VEVENT
BEGIN:VEVENT
DTSTART;TZID=Africa/Lagos:20270124T063000
DTEND;TZID=Africa/Lagos:20270124T123000
DTSTAMP:20260424T053612
CREATED:20250109T231636Z
LAST-MODIFIED:20250109T231636Z
UID:10001497-1800772200-1800793800@dunamisgospel.org
SUMMARY:Testimonies and Thanksgiving Service
DESCRIPTION:
URL:https://dunamisgospel.org/calendar/testimonies-and-thanksgiving-service/2027-01-24/
ATTACH;FMTTYPE=image/jpeg:https://dunamisgospel.org/wp-content/uploads/2024/12/IMG_3607.jpg
END:VEVENT
BEGIN:VEVENT
DTSTART;TZID=Africa/Lagos:20270126T093000
DTEND;TZID=Africa/Lagos:20270126T123000
DTSTAMP:20260424T053612
CREATED:20250109T231128Z
LAST-MODIFIED:20250109T231128Z
UID:10001258-1800955800-1800966600@dunamisgospel.org
SUMMARY:Healing and Deliverance Service
DESCRIPTION:
URL:https://dunamisgospel.org/calendar/healing-and-deliverance-service/2027-01-26/
ATTACH;FMTTYPE=image/jpeg:https://dunamisgospel.org/wp-content/uploads/2024/12/IMG_3608.jpg
END:VEVENT
BEGIN:VEVENT
DTSTART;TZID=Africa/Lagos:20270127T173000
DTEND;TZID=Africa/Lagos:20270127T203000
DTSTAMP:20260424T053612
CREATED:20250107T201154Z
LAST-MODIFIED:20250109T230000Z
UID:10000495-1801071000-1801081800@dunamisgospel.org
SUMMARY:Power Communion Service
DESCRIPTION:
URL:https://dunamisgospel.org/calendar/power-communion-service/2027-01-27/
ATTACH;FMTTYPE=image/jpeg:https://dunamisgospel.org/wp-content/uploads/2024/12/IMG_3606.jpg
END:VEVENT
END:VCALENDAR