BEGIN:VCALENDAR
VERSION:2.0
PRODID:-//Dunamis International Gospel Centre - ECPv6.15.17//NONSGML v1.0//EN
CALSCALE:GREGORIAN
METHOD:PUBLISH
X-WR-CALNAME:Dunamis International Gospel Centre
X-ORIGINAL-URL:https://dunamisgospel.org
X-WR-CALDESC:Events for Dunamis International Gospel Centre
REFRESH-INTERVAL;VALUE=DURATION:PT1H
X-Robots-Tag:noindex
X-PUBLISHED-TTL:PT1H
BEGIN:VTIMEZONE
TZID:Africa/Lagos
BEGIN:STANDARD
TZOFFSETFROM:+0100
TZOFFSETTO:+0100
TZNAME:WAT
DTSTART:20250101T000000
END:STANDARD
END:VTIMEZONE
BEGIN:VEVENT
DTSTART;TZID=Africa/Lagos:20261201T093000
DTEND;TZID=Africa/Lagos:20261201T123000
DTSTAMP:20260424T040802
CREATED:20250109T231128Z
LAST-MODIFIED:20250109T231128Z
UID:10001250-1796117400-1796128200@dunamisgospel.org
SUMMARY:Healing and Deliverance Service
DESCRIPTION:
URL:https://dunamisgospel.org/calendar/healing-and-deliverance-service/2026-12-01/
ATTACH;FMTTYPE=image/jpeg:https://dunamisgospel.org/wp-content/uploads/2024/12/IMG_3608.jpg
END:VEVENT
BEGIN:VEVENT
DTSTART;TZID=Africa/Lagos:20261202T173000
DTEND;TZID=Africa/Lagos:20261202T203000
DTSTAMP:20260424T040802
CREATED:20250107T201154Z
LAST-MODIFIED:20250109T230000Z
UID:10000487-1796232600-1796243400@dunamisgospel.org
SUMMARY:Power Communion Service
DESCRIPTION:
URL:https://dunamisgospel.org/calendar/power-communion-service/2026-12-02/
ATTACH;FMTTYPE=image/jpeg:https://dunamisgospel.org/wp-content/uploads/2024/12/IMG_3606.jpg
END:VEVENT
BEGIN:VEVENT
DTSTART;TZID=Africa/Lagos:20261206T063000
DTEND;TZID=Africa/Lagos:20261206T123000
DTSTAMP:20260424T040802
CREATED:20250109T230346Z
LAST-MODIFIED:20250109T230346Z
UID:10000673-1796538600-1796560200@dunamisgospel.org
SUMMARY:Blessing Sunday Service
DESCRIPTION:
URL:https://dunamisgospel.org/calendar/blessing-sunday-service/2026-12-06/
ATTACH;FMTTYPE=image/jpeg:https://dunamisgospel.org/wp-content/uploads/2024/12/IMG_3605.jpg
END:VEVENT
BEGIN:VEVENT
DTSTART;TZID=Africa/Lagos:20261208T093000
DTEND;TZID=Africa/Lagos:20261208T123000
DTSTAMP:20260424T040802
CREATED:20250109T231128Z
LAST-MODIFIED:20250109T231128Z
UID:10001251-1796722200-1796733000@dunamisgospel.org
SUMMARY:Healing and Deliverance Service
DESCRIPTION:
URL:https://dunamisgospel.org/calendar/healing-and-deliverance-service/2026-12-08/
ATTACH;FMTTYPE=image/jpeg:https://dunamisgospel.org/wp-content/uploads/2024/12/IMG_3608.jpg
END:VEVENT
BEGIN:VEVENT
DTSTART;TZID=Africa/Lagos:20261209T173000
DTEND;TZID=Africa/Lagos:20261209T203000
DTSTAMP:20260424T040802
CREATED:20250107T201154Z
LAST-MODIFIED:20250109T230000Z
UID:10000488-1796837400-1796848200@dunamisgospel.org
SUMMARY:Power Communion Service
DESCRIPTION:
URL:https://dunamisgospel.org/calendar/power-communion-service/2026-12-09/
ATTACH;FMTTYPE=image/jpeg:https://dunamisgospel.org/wp-content/uploads/2024/12/IMG_3606.jpg
END:VEVENT
BEGIN:VEVENT
DTSTART;TZID=Africa/Lagos:20261213T063000
DTEND;TZID=Africa/Lagos:20261213T123000
DTSTAMP:20260424T040802
CREATED:20250107T211403Z
LAST-MODIFIED:20250109T230958Z
UID:10001115-1797143400-1797165000@dunamisgospel.org
SUMMARY:Anointing Service
DESCRIPTION:
URL:https://dunamisgospel.org/calendar/anointing-service/2026-12-13/
ATTACH;FMTTYPE=image/jpeg:https://dunamisgospel.org/wp-content/uploads/2024/12/IMG_3603.jpg
END:VEVENT
BEGIN:VEVENT
DTSTART;TZID=Africa/Lagos:20261215T093000
DTEND;TZID=Africa/Lagos:20261215T123000
DTSTAMP:20260424T040802
CREATED:20250109T231128Z
LAST-MODIFIED:20250109T231128Z
UID:10001252-1797327000-1797337800@dunamisgospel.org
SUMMARY:Healing and Deliverance Service
DESCRIPTION:
URL:https://dunamisgospel.org/calendar/healing-and-deliverance-service/2026-12-15/
ATTACH;FMTTYPE=image/jpeg:https://dunamisgospel.org/wp-content/uploads/2024/12/IMG_3608.jpg
END:VEVENT
BEGIN:VEVENT
DTSTART;TZID=Africa/Lagos:20261216T173000
DTEND;TZID=Africa/Lagos:20261216T203000
DTSTAMP:20260424T040802
CREATED:20250107T201154Z
LAST-MODIFIED:20250109T230000Z
UID:10000489-1797442200-1797453000@dunamisgospel.org
SUMMARY:Power Communion Service
DESCRIPTION:
URL:https://dunamisgospel.org/calendar/power-communion-service/2026-12-16/
ATTACH;FMTTYPE=image/jpeg:https://dunamisgospel.org/wp-content/uploads/2024/12/IMG_3606.jpg
END:VEVENT
BEGIN:VEVENT
DTSTART;TZID=Africa/Lagos:20261220T063000
DTEND;TZID=Africa/Lagos:20261220T123000
DTSTAMP:20260424T040802
CREATED:20250109T231514Z
LAST-MODIFIED:20250109T231514Z
UID:10001436-1797748200-1797769800@dunamisgospel.org
SUMMARY:Impartation Service
DESCRIPTION:
URL:https://dunamisgospel.org/calendar/impartation-service/2026-12-20/
ATTACH;FMTTYPE=image/jpeg:https://dunamisgospel.org/wp-content/uploads/2024/12/IMG_3609.jpg
END:VEVENT
BEGIN:VEVENT
DTSTART;TZID=Africa/Lagos:20261222T093000
DTEND;TZID=Africa/Lagos:20261222T123000
DTSTAMP:20260424T040802
CREATED:20250109T231128Z
LAST-MODIFIED:20250109T231128Z
UID:10001253-1797931800-1797942600@dunamisgospel.org
SUMMARY:Healing and Deliverance Service
DESCRIPTION:
URL:https://dunamisgospel.org/calendar/healing-and-deliverance-service/2026-12-22/
ATTACH;FMTTYPE=image/jpeg:https://dunamisgospel.org/wp-content/uploads/2024/12/IMG_3608.jpg
END:VEVENT
BEGIN:VEVENT
DTSTART;TZID=Africa/Lagos:20261223T173000
DTEND;TZID=Africa/Lagos:20261223T203000
DTSTAMP:20260424T040802
CREATED:20250107T201154Z
LAST-MODIFIED:20250109T230000Z
UID:10000490-1798047000-1798057800@dunamisgospel.org
SUMMARY:Power Communion Service
DESCRIPTION:
URL:https://dunamisgospel.org/calendar/power-communion-service/2026-12-23/
ATTACH;FMTTYPE=image/jpeg:https://dunamisgospel.org/wp-content/uploads/2024/12/IMG_3606.jpg
END:VEVENT
BEGIN:VEVENT
DTSTART;TZID=Africa/Lagos:20261227T063000
DTEND;TZID=Africa/Lagos:20261227T123000
DTSTAMP:20260424T040802
CREATED:20250109T231636Z
LAST-MODIFIED:20250109T231636Z
UID:10001496-1798353000-1798374600@dunamisgospel.org
SUMMARY:Testimonies and Thanksgiving Service
DESCRIPTION:
URL:https://dunamisgospel.org/calendar/testimonies-and-thanksgiving-service/2026-12-27/
ATTACH;FMTTYPE=image/jpeg:https://dunamisgospel.org/wp-content/uploads/2024/12/IMG_3607.jpg
END:VEVENT
BEGIN:VEVENT
DTSTART;TZID=Africa/Lagos:20261229T093000
DTEND;TZID=Africa/Lagos:20261229T123000
DTSTAMP:20260424T040802
CREATED:20250109T231128Z
LAST-MODIFIED:20250109T231128Z
UID:10001254-1798536600-1798547400@dunamisgospel.org
SUMMARY:Healing and Deliverance Service
DESCRIPTION:
URL:https://dunamisgospel.org/calendar/healing-and-deliverance-service/2026-12-29/
ATTACH;FMTTYPE=image/jpeg:https://dunamisgospel.org/wp-content/uploads/2024/12/IMG_3608.jpg
END:VEVENT
BEGIN:VEVENT
DTSTART;TZID=Africa/Lagos:20261230T173000
DTEND;TZID=Africa/Lagos:20261230T203000
DTSTAMP:20260424T040802
CREATED:20250107T201154Z
LAST-MODIFIED:20250109T230000Z
UID:10000491-1798651800-1798662600@dunamisgospel.org
SUMMARY:Power Communion Service
DESCRIPTION:
URL:https://dunamisgospel.org/calendar/power-communion-service/2026-12-30/
ATTACH;FMTTYPE=image/jpeg:https://dunamisgospel.org/wp-content/uploads/2024/12/IMG_3606.jpg
END:VEVENT
END:VCALENDAR