BEGIN:VCALENDAR
VERSION:2.0
PRODID:-//Dunamis International Gospel Centre - ECPv6.15.17//NONSGML v1.0//EN
CALSCALE:GREGORIAN
METHOD:PUBLISH
X-ORIGINAL-URL:https://dunamisgospel.org
X-WR-CALDESC:Events for Dunamis International Gospel Centre
REFRESH-INTERVAL;VALUE=DURATION:PT1H
X-Robots-Tag:noindex
X-PUBLISHED-TTL:PT1H
BEGIN:VTIMEZONE
TZID:Africa/Lagos
BEGIN:STANDARD
TZOFFSETFROM:+0100
TZOFFSETTO:+0100
TZNAME:WAT
DTSTART:20250101T000000
END:STANDARD
END:VTIMEZONE
BEGIN:VEVENT
DTSTART;TZID=Africa/Lagos:20261101T063000
DTEND;TZID=Africa/Lagos:20261101T123000
DTSTAMP:20260424T023232
CREATED:20250109T230346Z
LAST-MODIFIED:20250109T230346Z
UID:10000672-1793514600-1793536200@dunamisgospel.org
SUMMARY:Blessing Sunday Service
DESCRIPTION:
URL:https://dunamisgospel.org/calendar/blessing-sunday-service/2026-11-01/
ATTACH;FMTTYPE=image/jpeg:https://dunamisgospel.org/wp-content/uploads/2024/12/IMG_3605.jpg
END:VEVENT
BEGIN:VEVENT
DTSTART;TZID=Africa/Lagos:20261103T093000
DTEND;TZID=Africa/Lagos:20261103T123000
DTSTAMP:20260424T023232
CREATED:20250109T231128Z
LAST-MODIFIED:20250109T231128Z
UID:10001246-1793698200-1793709000@dunamisgospel.org
SUMMARY:Healing and Deliverance Service
DESCRIPTION:
URL:https://dunamisgospel.org/calendar/healing-and-deliverance-service/2026-11-03/
ATTACH;FMTTYPE=image/jpeg:https://dunamisgospel.org/wp-content/uploads/2024/12/IMG_3608.jpg
END:VEVENT
BEGIN:VEVENT
DTSTART;TZID=Africa/Lagos:20261104T173000
DTEND;TZID=Africa/Lagos:20261104T203000
DTSTAMP:20260424T023232
CREATED:20250107T201154Z
LAST-MODIFIED:20250109T230000Z
UID:10000483-1793813400-1793824200@dunamisgospel.org
SUMMARY:Power Communion Service
DESCRIPTION:
URL:https://dunamisgospel.org/calendar/power-communion-service/2026-11-04/
ATTACH;FMTTYPE=image/jpeg:https://dunamisgospel.org/wp-content/uploads/2024/12/IMG_3606.jpg
END:VEVENT
BEGIN:VEVENT
DTSTART;TZID=Africa/Lagos:20261108T063000
DTEND;TZID=Africa/Lagos:20261108T123000
DTSTAMP:20260424T023232
CREATED:20250107T211403Z
LAST-MODIFIED:20250109T230958Z
UID:10001114-1794119400-1794141000@dunamisgospel.org
SUMMARY:Anointing Service
DESCRIPTION:
URL:https://dunamisgospel.org/calendar/anointing-service/2026-11-08/
ATTACH;FMTTYPE=image/jpeg:https://dunamisgospel.org/wp-content/uploads/2024/12/IMG_3603.jpg
END:VEVENT
BEGIN:VEVENT
DTSTART;TZID=Africa/Lagos:20261110T093000
DTEND;TZID=Africa/Lagos:20261110T123000
DTSTAMP:20260424T023232
CREATED:20250109T231128Z
LAST-MODIFIED:20250109T231128Z
UID:10001247-1794303000-1794313800@dunamisgospel.org
SUMMARY:Healing and Deliverance Service
DESCRIPTION:
URL:https://dunamisgospel.org/calendar/healing-and-deliverance-service/2026-11-10/
ATTACH;FMTTYPE=image/jpeg:https://dunamisgospel.org/wp-content/uploads/2024/12/IMG_3608.jpg
END:VEVENT
BEGIN:VEVENT
DTSTART;TZID=Africa/Lagos:20261111T173000
DTEND;TZID=Africa/Lagos:20261111T203000
DTSTAMP:20260424T023232
CREATED:20250107T201154Z
LAST-MODIFIED:20250109T230000Z
UID:10000484-1794418200-1794429000@dunamisgospel.org
SUMMARY:Power Communion Service
DESCRIPTION:
URL:https://dunamisgospel.org/calendar/power-communion-service/2026-11-11/
ATTACH;FMTTYPE=image/jpeg:https://dunamisgospel.org/wp-content/uploads/2024/12/IMG_3606.jpg
END:VEVENT
BEGIN:VEVENT
DTSTART;TZID=Africa/Lagos:20261115T063000
DTEND;TZID=Africa/Lagos:20261115T123000
DTSTAMP:20260424T023232
CREATED:20250109T231514Z
LAST-MODIFIED:20250109T231514Z
UID:10001435-1794724200-1794745800@dunamisgospel.org
SUMMARY:Impartation Service
DESCRIPTION:
URL:https://dunamisgospel.org/calendar/impartation-service/2026-11-15/
ATTACH;FMTTYPE=image/jpeg:https://dunamisgospel.org/wp-content/uploads/2024/12/IMG_3609.jpg
END:VEVENT
BEGIN:VEVENT
DTSTART;TZID=Africa/Lagos:20261117T093000
DTEND;TZID=Africa/Lagos:20261117T123000
DTSTAMP:20260424T023232
CREATED:20250109T231128Z
LAST-MODIFIED:20250109T231128Z
UID:10001248-1794907800-1794918600@dunamisgospel.org
SUMMARY:Healing and Deliverance Service
DESCRIPTION:
URL:https://dunamisgospel.org/calendar/healing-and-deliverance-service/2026-11-17/
ATTACH;FMTTYPE=image/jpeg:https://dunamisgospel.org/wp-content/uploads/2024/12/IMG_3608.jpg
END:VEVENT
BEGIN:VEVENT
DTSTART;TZID=Africa/Lagos:20261118T173000
DTEND;TZID=Africa/Lagos:20261118T203000
DTSTAMP:20260424T023232
CREATED:20250107T201154Z
LAST-MODIFIED:20250109T230000Z
UID:10000485-1795023000-1795033800@dunamisgospel.org
SUMMARY:Power Communion Service
DESCRIPTION:
URL:https://dunamisgospel.org/calendar/power-communion-service/2026-11-18/
ATTACH;FMTTYPE=image/jpeg:https://dunamisgospel.org/wp-content/uploads/2024/12/IMG_3606.jpg
END:VEVENT
BEGIN:VEVENT
DTSTART;TZID=Africa/Lagos:20261122T063000
DTEND;TZID=Africa/Lagos:20261122T123000
DTSTAMP:20260424T023232
CREATED:20250109T231636Z
LAST-MODIFIED:20250109T231636Z
UID:10001495-1795329000-1795350600@dunamisgospel.org
SUMMARY:Testimonies and Thanksgiving Service
DESCRIPTION:
URL:https://dunamisgospel.org/calendar/testimonies-and-thanksgiving-service/2026-11-22/
ATTACH;FMTTYPE=image/jpeg:https://dunamisgospel.org/wp-content/uploads/2024/12/IMG_3607.jpg
END:VEVENT
BEGIN:VEVENT
DTSTART;TZID=Africa/Lagos:20261124T093000
DTEND;TZID=Africa/Lagos:20261124T123000
DTSTAMP:20260424T023232
CREATED:20250109T231128Z
LAST-MODIFIED:20250109T231128Z
UID:10001249-1795512600-1795523400@dunamisgospel.org
SUMMARY:Healing and Deliverance Service
DESCRIPTION:
URL:https://dunamisgospel.org/calendar/healing-and-deliverance-service/2026-11-24/
ATTACH;FMTTYPE=image/jpeg:https://dunamisgospel.org/wp-content/uploads/2024/12/IMG_3608.jpg
END:VEVENT
BEGIN:VEVENT
DTSTART;TZID=Africa/Lagos:20261125T173000
DTEND;TZID=Africa/Lagos:20261125T203000
DTSTAMP:20260424T023232
CREATED:20250107T201154Z
LAST-MODIFIED:20250109T230000Z
UID:10000486-1795627800-1795638600@dunamisgospel.org
SUMMARY:Power Communion Service
DESCRIPTION:
URL:https://dunamisgospel.org/calendar/power-communion-service/2026-11-25/
ATTACH;FMTTYPE=image/jpeg:https://dunamisgospel.org/wp-content/uploads/2024/12/IMG_3606.jpg
END:VEVENT
END:VCALENDAR