BEGIN:VCALENDAR
VERSION:2.0
PRODID:-//Dunamis International Gospel Centre - ECPv6.15.17//NONSGML v1.0//EN
CALSCALE:GREGORIAN
METHOD:PUBLISH
X-WR-CALNAME:Dunamis International Gospel Centre
X-ORIGINAL-URL:https://dunamisgospel.org
X-WR-CALDESC:Events for Dunamis International Gospel Centre
REFRESH-INTERVAL;VALUE=DURATION:PT1H
X-Robots-Tag:noindex
X-PUBLISHED-TTL:PT1H
BEGIN:VTIMEZONE
TZID:Africa/Lagos
BEGIN:STANDARD
TZOFFSETFROM:+0100
TZOFFSETTO:+0100
TZNAME:WAT
DTSTART:20250101T000000
END:STANDARD
END:VTIMEZONE
BEGIN:VEVENT
DTSTART;TZID=Africa/Lagos:20261004T063000
DTEND;TZID=Africa/Lagos:20261004T123000
DTSTAMP:20260424T010916
CREATED:20250109T230346Z
LAST-MODIFIED:20250109T230346Z
UID:10000671-1791095400-1791117000@dunamisgospel.org
SUMMARY:Blessing Sunday Service
DESCRIPTION:
URL:https://dunamisgospel.org/calendar/blessing-sunday-service/2026-10-04/
ATTACH;FMTTYPE=image/jpeg:https://dunamisgospel.org/wp-content/uploads/2024/12/IMG_3605.jpg
END:VEVENT
BEGIN:VEVENT
DTSTART;TZID=Africa/Lagos:20261006T093000
DTEND;TZID=Africa/Lagos:20261006T123000
DTSTAMP:20260424T010916
CREATED:20250109T231128Z
LAST-MODIFIED:20250109T231128Z
UID:10001242-1791279000-1791289800@dunamisgospel.org
SUMMARY:Healing and Deliverance Service
DESCRIPTION:
URL:https://dunamisgospel.org/calendar/healing-and-deliverance-service/2026-10-06/
ATTACH;FMTTYPE=image/jpeg:https://dunamisgospel.org/wp-content/uploads/2024/12/IMG_3608.jpg
END:VEVENT
BEGIN:VEVENT
DTSTART;TZID=Africa/Lagos:20261007T173000
DTEND;TZID=Africa/Lagos:20261007T203000
DTSTAMP:20260424T010916
CREATED:20250107T201154Z
LAST-MODIFIED:20250109T230000Z
UID:10000479-1791394200-1791405000@dunamisgospel.org
SUMMARY:Power Communion Service
DESCRIPTION:
URL:https://dunamisgospel.org/calendar/power-communion-service/2026-10-07/
ATTACH;FMTTYPE=image/jpeg:https://dunamisgospel.org/wp-content/uploads/2024/12/IMG_3606.jpg
END:VEVENT
BEGIN:VEVENT
DTSTART;TZID=Africa/Lagos:20261011T063000
DTEND;TZID=Africa/Lagos:20261011T123000
DTSTAMP:20260424T010916
CREATED:20250107T211403Z
LAST-MODIFIED:20250109T230958Z
UID:10001113-1791700200-1791721800@dunamisgospel.org
SUMMARY:Anointing Service
DESCRIPTION:
URL:https://dunamisgospel.org/calendar/anointing-service/2026-10-11/
ATTACH;FMTTYPE=image/jpeg:https://dunamisgospel.org/wp-content/uploads/2024/12/IMG_3603.jpg
END:VEVENT
BEGIN:VEVENT
DTSTART;TZID=Africa/Lagos:20261013T093000
DTEND;TZID=Africa/Lagos:20261013T123000
DTSTAMP:20260424T010916
CREATED:20250109T231128Z
LAST-MODIFIED:20250109T231128Z
UID:10001243-1791883800-1791894600@dunamisgospel.org
SUMMARY:Healing and Deliverance Service
DESCRIPTION:
URL:https://dunamisgospel.org/calendar/healing-and-deliverance-service/2026-10-13/
ATTACH;FMTTYPE=image/jpeg:https://dunamisgospel.org/wp-content/uploads/2024/12/IMG_3608.jpg
END:VEVENT
BEGIN:VEVENT
DTSTART;TZID=Africa/Lagos:20261014T173000
DTEND;TZID=Africa/Lagos:20261014T203000
DTSTAMP:20260424T010916
CREATED:20250107T201154Z
LAST-MODIFIED:20250109T230000Z
UID:10000480-1791999000-1792009800@dunamisgospel.org
SUMMARY:Power Communion Service
DESCRIPTION:
URL:https://dunamisgospel.org/calendar/power-communion-service/2026-10-14/
ATTACH;FMTTYPE=image/jpeg:https://dunamisgospel.org/wp-content/uploads/2024/12/IMG_3606.jpg
END:VEVENT
BEGIN:VEVENT
DTSTART;TZID=Africa/Lagos:20261018T063000
DTEND;TZID=Africa/Lagos:20261018T123000
DTSTAMP:20260424T010916
CREATED:20250109T231514Z
LAST-MODIFIED:20250109T231514Z
UID:10001434-1792305000-1792326600@dunamisgospel.org
SUMMARY:Impartation Service
DESCRIPTION:
URL:https://dunamisgospel.org/calendar/impartation-service/2026-10-18/
ATTACH;FMTTYPE=image/jpeg:https://dunamisgospel.org/wp-content/uploads/2024/12/IMG_3609.jpg
END:VEVENT
BEGIN:VEVENT
DTSTART;TZID=Africa/Lagos:20261020T093000
DTEND;TZID=Africa/Lagos:20261020T123000
DTSTAMP:20260424T010916
CREATED:20250109T231128Z
LAST-MODIFIED:20250109T231128Z
UID:10001244-1792488600-1792499400@dunamisgospel.org
SUMMARY:Healing and Deliverance Service
DESCRIPTION:
URL:https://dunamisgospel.org/calendar/healing-and-deliverance-service/2026-10-20/
ATTACH;FMTTYPE=image/jpeg:https://dunamisgospel.org/wp-content/uploads/2024/12/IMG_3608.jpg
END:VEVENT
BEGIN:VEVENT
DTSTART;TZID=Africa/Lagos:20261021T173000
DTEND;TZID=Africa/Lagos:20261021T203000
DTSTAMP:20260424T010916
CREATED:20250107T201154Z
LAST-MODIFIED:20250109T230000Z
UID:10000481-1792603800-1792614600@dunamisgospel.org
SUMMARY:Power Communion Service
DESCRIPTION:
URL:https://dunamisgospel.org/calendar/power-communion-service/2026-10-21/
ATTACH;FMTTYPE=image/jpeg:https://dunamisgospel.org/wp-content/uploads/2024/12/IMG_3606.jpg
END:VEVENT
BEGIN:VEVENT
DTSTART;TZID=Africa/Lagos:20261025T063000
DTEND;TZID=Africa/Lagos:20261025T123000
DTSTAMP:20260424T010916
CREATED:20250109T231636Z
LAST-MODIFIED:20250109T231636Z
UID:10001494-1792909800-1792931400@dunamisgospel.org
SUMMARY:Testimonies and Thanksgiving Service
DESCRIPTION:
URL:https://dunamisgospel.org/calendar/testimonies-and-thanksgiving-service/2026-10-25/
ATTACH;FMTTYPE=image/jpeg:https://dunamisgospel.org/wp-content/uploads/2024/12/IMG_3607.jpg
END:VEVENT
BEGIN:VEVENT
DTSTART;TZID=Africa/Lagos:20261027T093000
DTEND;TZID=Africa/Lagos:20261027T123000
DTSTAMP:20260424T010916
CREATED:20250109T231128Z
LAST-MODIFIED:20250109T231128Z
UID:10001245-1793093400-1793104200@dunamisgospel.org
SUMMARY:Healing and Deliverance Service
DESCRIPTION:
URL:https://dunamisgospel.org/calendar/healing-and-deliverance-service/2026-10-27/
ATTACH;FMTTYPE=image/jpeg:https://dunamisgospel.org/wp-content/uploads/2024/12/IMG_3608.jpg
END:VEVENT
BEGIN:VEVENT
DTSTART;TZID=Africa/Lagos:20261028T173000
DTEND;TZID=Africa/Lagos:20261028T203000
DTSTAMP:20260424T010916
CREATED:20250107T201154Z
LAST-MODIFIED:20250109T230000Z
UID:10000482-1793208600-1793219400@dunamisgospel.org
SUMMARY:Power Communion Service
DESCRIPTION:
URL:https://dunamisgospel.org/calendar/power-communion-service/2026-10-28/
ATTACH;FMTTYPE=image/jpeg:https://dunamisgospel.org/wp-content/uploads/2024/12/IMG_3606.jpg
END:VEVENT
END:VCALENDAR