BEGIN:VCALENDAR
VERSION:2.0
PRODID:-//Dunamis International Gospel Centre - ECPv6.15.17//NONSGML v1.0//EN
CALSCALE:GREGORIAN
METHOD:PUBLISH
X-WR-CALNAME:Dunamis International Gospel Centre
X-ORIGINAL-URL:https://dunamisgospel.org
X-WR-CALDESC:Events for Dunamis International Gospel Centre
REFRESH-INTERVAL;VALUE=DURATION:PT1H
X-Robots-Tag:noindex
X-PUBLISHED-TTL:PT1H
BEGIN:VTIMEZONE
TZID:Africa/Lagos
BEGIN:STANDARD
TZOFFSETFROM:+0100
TZOFFSETTO:+0100
TZNAME:WAT
DTSTART:20250101T000000
END:STANDARD
END:VTIMEZONE
BEGIN:VEVENT
DTSTART;TZID=Africa/Lagos:20260901T093000
DTEND;TZID=Africa/Lagos:20260901T123000
DTSTAMP:20260423T233735
CREATED:20250109T231128Z
LAST-MODIFIED:20250109T231128Z
UID:10001237-1788255000-1788265800@dunamisgospel.org
SUMMARY:Healing and Deliverance Service
DESCRIPTION:
URL:https://dunamisgospel.org/calendar/healing-and-deliverance-service/2026-09-01/
ATTACH;FMTTYPE=image/jpeg:https://dunamisgospel.org/wp-content/uploads/2024/12/IMG_3608.jpg
END:VEVENT
BEGIN:VEVENT
DTSTART;TZID=Africa/Lagos:20260902T173000
DTEND;TZID=Africa/Lagos:20260902T203000
DTSTAMP:20260423T233735
CREATED:20250107T201154Z
LAST-MODIFIED:20250109T230000Z
UID:10000474-1788370200-1788381000@dunamisgospel.org
SUMMARY:Power Communion Service
DESCRIPTION:
URL:https://dunamisgospel.org/calendar/power-communion-service/2026-09-02/
ATTACH;FMTTYPE=image/jpeg:https://dunamisgospel.org/wp-content/uploads/2024/12/IMG_3606.jpg
END:VEVENT
BEGIN:VEVENT
DTSTART;TZID=Africa/Lagos:20260906T063000
DTEND;TZID=Africa/Lagos:20260906T123000
DTSTAMP:20260423T233735
CREATED:20250109T230346Z
LAST-MODIFIED:20250109T230346Z
UID:10000670-1788676200-1788697800@dunamisgospel.org
SUMMARY:Blessing Sunday Service
DESCRIPTION:
URL:https://dunamisgospel.org/calendar/blessing-sunday-service/2026-09-06/
ATTACH;FMTTYPE=image/jpeg:https://dunamisgospel.org/wp-content/uploads/2024/12/IMG_3605.jpg
END:VEVENT
BEGIN:VEVENT
DTSTART;TZID=Africa/Lagos:20260908T093000
DTEND;TZID=Africa/Lagos:20260908T123000
DTSTAMP:20260423T233735
CREATED:20250109T231128Z
LAST-MODIFIED:20250109T231128Z
UID:10001238-1788859800-1788870600@dunamisgospel.org
SUMMARY:Healing and Deliverance Service
DESCRIPTION:
URL:https://dunamisgospel.org/calendar/healing-and-deliverance-service/2026-09-08/
ATTACH;FMTTYPE=image/jpeg:https://dunamisgospel.org/wp-content/uploads/2024/12/IMG_3608.jpg
END:VEVENT
BEGIN:VEVENT
DTSTART;TZID=Africa/Lagos:20260909T173000
DTEND;TZID=Africa/Lagos:20260909T203000
DTSTAMP:20260423T233735
CREATED:20250107T201154Z
LAST-MODIFIED:20250109T230000Z
UID:10000475-1788975000-1788985800@dunamisgospel.org
SUMMARY:Power Communion Service
DESCRIPTION:
URL:https://dunamisgospel.org/calendar/power-communion-service/2026-09-09/
ATTACH;FMTTYPE=image/jpeg:https://dunamisgospel.org/wp-content/uploads/2024/12/IMG_3606.jpg
END:VEVENT
BEGIN:VEVENT
DTSTART;TZID=Africa/Lagos:20260913T063000
DTEND;TZID=Africa/Lagos:20260913T123000
DTSTAMP:20260423T233735
CREATED:20250107T211403Z
LAST-MODIFIED:20250109T230958Z
UID:10001112-1789281000-1789302600@dunamisgospel.org
SUMMARY:Anointing Service
DESCRIPTION:
URL:https://dunamisgospel.org/calendar/anointing-service/2026-09-13/
ATTACH;FMTTYPE=image/jpeg:https://dunamisgospel.org/wp-content/uploads/2024/12/IMG_3603.jpg
END:VEVENT
BEGIN:VEVENT
DTSTART;TZID=Africa/Lagos:20260915T093000
DTEND;TZID=Africa/Lagos:20260915T123000
DTSTAMP:20260423T233735
CREATED:20250109T231128Z
LAST-MODIFIED:20250109T231128Z
UID:10001239-1789464600-1789475400@dunamisgospel.org
SUMMARY:Healing and Deliverance Service
DESCRIPTION:
URL:https://dunamisgospel.org/calendar/healing-and-deliverance-service/2026-09-15/
ATTACH;FMTTYPE=image/jpeg:https://dunamisgospel.org/wp-content/uploads/2024/12/IMG_3608.jpg
END:VEVENT
BEGIN:VEVENT
DTSTART;TZID=Africa/Lagos:20260916T173000
DTEND;TZID=Africa/Lagos:20260916T203000
DTSTAMP:20260423T233735
CREATED:20250107T201154Z
LAST-MODIFIED:20250109T230000Z
UID:10000476-1789579800-1789590600@dunamisgospel.org
SUMMARY:Power Communion Service
DESCRIPTION:
URL:https://dunamisgospel.org/calendar/power-communion-service/2026-09-16/
ATTACH;FMTTYPE=image/jpeg:https://dunamisgospel.org/wp-content/uploads/2024/12/IMG_3606.jpg
END:VEVENT
BEGIN:VEVENT
DTSTART;TZID=Africa/Lagos:20260920T063000
DTEND;TZID=Africa/Lagos:20260920T123000
DTSTAMP:20260423T233735
CREATED:20250109T231514Z
LAST-MODIFIED:20250109T231514Z
UID:10001433-1789885800-1789907400@dunamisgospel.org
SUMMARY:Impartation Service
DESCRIPTION:
URL:https://dunamisgospel.org/calendar/impartation-service/2026-09-20/
ATTACH;FMTTYPE=image/jpeg:https://dunamisgospel.org/wp-content/uploads/2024/12/IMG_3609.jpg
END:VEVENT
BEGIN:VEVENT
DTSTART;TZID=Africa/Lagos:20260922T093000
DTEND;TZID=Africa/Lagos:20260922T123000
DTSTAMP:20260423T233735
CREATED:20250109T231128Z
LAST-MODIFIED:20250109T231128Z
UID:10001240-1790069400-1790080200@dunamisgospel.org
SUMMARY:Healing and Deliverance Service
DESCRIPTION:
URL:https://dunamisgospel.org/calendar/healing-and-deliverance-service/2026-09-22/
ATTACH;FMTTYPE=image/jpeg:https://dunamisgospel.org/wp-content/uploads/2024/12/IMG_3608.jpg
END:VEVENT
BEGIN:VEVENT
DTSTART;TZID=Africa/Lagos:20260923T173000
DTEND;TZID=Africa/Lagos:20260923T203000
DTSTAMP:20260423T233735
CREATED:20250107T201154Z
LAST-MODIFIED:20250109T230000Z
UID:10000477-1790184600-1790195400@dunamisgospel.org
SUMMARY:Power Communion Service
DESCRIPTION:
URL:https://dunamisgospel.org/calendar/power-communion-service/2026-09-23/
ATTACH;FMTTYPE=image/jpeg:https://dunamisgospel.org/wp-content/uploads/2024/12/IMG_3606.jpg
END:VEVENT
BEGIN:VEVENT
DTSTART;TZID=Africa/Lagos:20260927T063000
DTEND;TZID=Africa/Lagos:20260927T123000
DTSTAMP:20260423T233735
CREATED:20250109T231636Z
LAST-MODIFIED:20250109T231636Z
UID:10001493-1790490600-1790512200@dunamisgospel.org
SUMMARY:Testimonies and Thanksgiving Service
DESCRIPTION:
URL:https://dunamisgospel.org/calendar/testimonies-and-thanksgiving-service/2026-09-27/
ATTACH;FMTTYPE=image/jpeg:https://dunamisgospel.org/wp-content/uploads/2024/12/IMG_3607.jpg
END:VEVENT
BEGIN:VEVENT
DTSTART;TZID=Africa/Lagos:20260929T093000
DTEND;TZID=Africa/Lagos:20260929T123000
DTSTAMP:20260423T233735
CREATED:20250109T231128Z
LAST-MODIFIED:20250109T231128Z
UID:10001241-1790674200-1790685000@dunamisgospel.org
SUMMARY:Healing and Deliverance Service
DESCRIPTION:
URL:https://dunamisgospel.org/calendar/healing-and-deliverance-service/2026-09-29/
ATTACH;FMTTYPE=image/jpeg:https://dunamisgospel.org/wp-content/uploads/2024/12/IMG_3608.jpg
END:VEVENT
BEGIN:VEVENT
DTSTART;TZID=Africa/Lagos:20260930T173000
DTEND;TZID=Africa/Lagos:20260930T203000
DTSTAMP:20260423T233735
CREATED:20250107T201154Z
LAST-MODIFIED:20250109T230000Z
UID:10000478-1790789400-1790800200@dunamisgospel.org
SUMMARY:Power Communion Service
DESCRIPTION:
URL:https://dunamisgospel.org/calendar/power-communion-service/2026-09-30/
ATTACH;FMTTYPE=image/jpeg:https://dunamisgospel.org/wp-content/uploads/2024/12/IMG_3606.jpg
END:VEVENT
END:VCALENDAR