BEGIN:VCALENDAR
VERSION:2.0
PRODID:-//Dunamis International Gospel Centre - ECPv6.15.17//NONSGML v1.0//EN
CALSCALE:GREGORIAN
METHOD:PUBLISH
X-ORIGINAL-URL:https://dunamisgospel.org
X-WR-CALDESC:Events for Dunamis International Gospel Centre
REFRESH-INTERVAL;VALUE=DURATION:PT1H
X-Robots-Tag:noindex
X-PUBLISHED-TTL:PT1H
BEGIN:VTIMEZONE
TZID:Africa/Lagos
BEGIN:STANDARD
TZOFFSETFROM:+0100
TZOFFSETTO:+0100
TZNAME:WAT
DTSTART:20250101T000000
END:STANDARD
END:VTIMEZONE
BEGIN:VEVENT
DTSTART;TZID=Africa/Lagos:20260602T093000
DTEND;TZID=Africa/Lagos:20260602T123000
DTSTAMP:20260423T174941
CREATED:20250109T231128Z
LAST-MODIFIED:20250109T231128Z
UID:10001224-1780392600-1780403400@dunamisgospel.org
SUMMARY:Healing and Deliverance Service
DESCRIPTION:
URL:https://dunamisgospel.org/calendar/healing-and-deliverance-service/2026-06-02/
ATTACH;FMTTYPE=image/jpeg:https://dunamisgospel.org/wp-content/uploads/2024/12/IMG_3608.jpg
END:VEVENT
BEGIN:VEVENT
DTSTART;TZID=Africa/Lagos:20260603T173000
DTEND;TZID=Africa/Lagos:20260603T203000
DTSTAMP:20260423T174941
CREATED:20250107T201154Z
LAST-MODIFIED:20250109T230000Z
UID:10000461-1780507800-1780518600@dunamisgospel.org
SUMMARY:Power Communion Service
DESCRIPTION:
URL:https://dunamisgospel.org/calendar/power-communion-service/2026-06-03/
ATTACH;FMTTYPE=image/jpeg:https://dunamisgospel.org/wp-content/uploads/2024/12/IMG_3606.jpg
END:VEVENT
BEGIN:VEVENT
DTSTART;TZID=Africa/Lagos:20260607T063000
DTEND;TZID=Africa/Lagos:20260607T123000
DTSTAMP:20260423T174941
CREATED:20250109T230346Z
LAST-MODIFIED:20250109T230346Z
UID:10000667-1780813800-1780835400@dunamisgospel.org
SUMMARY:Blessing Sunday Service
DESCRIPTION:
URL:https://dunamisgospel.org/calendar/blessing-sunday-service/2026-06-07/
ATTACH;FMTTYPE=image/jpeg:https://dunamisgospel.org/wp-content/uploads/2024/12/IMG_3605.jpg
END:VEVENT
BEGIN:VEVENT
DTSTART;TZID=Africa/Lagos:20260609T093000
DTEND;TZID=Africa/Lagos:20260609T123000
DTSTAMP:20260423T174941
CREATED:20250109T231128Z
LAST-MODIFIED:20250109T231128Z
UID:10001225-1780997400-1781008200@dunamisgospel.org
SUMMARY:Healing and Deliverance Service
DESCRIPTION:
URL:https://dunamisgospel.org/calendar/healing-and-deliverance-service/2026-06-09/
ATTACH;FMTTYPE=image/jpeg:https://dunamisgospel.org/wp-content/uploads/2024/12/IMG_3608.jpg
END:VEVENT
BEGIN:VEVENT
DTSTART;TZID=Africa/Lagos:20260610T173000
DTEND;TZID=Africa/Lagos:20260610T203000
DTSTAMP:20260423T174941
CREATED:20250107T201154Z
LAST-MODIFIED:20250109T230000Z
UID:10000462-1781112600-1781123400@dunamisgospel.org
SUMMARY:Power Communion Service
DESCRIPTION:
URL:https://dunamisgospel.org/calendar/power-communion-service/2026-06-10/
ATTACH;FMTTYPE=image/jpeg:https://dunamisgospel.org/wp-content/uploads/2024/12/IMG_3606.jpg
END:VEVENT
BEGIN:VEVENT
DTSTART;TZID=Africa/Lagos:20260614T063000
DTEND;TZID=Africa/Lagos:20260614T123000
DTSTAMP:20260423T174941
CREATED:20250107T211403Z
LAST-MODIFIED:20250109T230958Z
UID:10001109-1781418600-1781440200@dunamisgospel.org
SUMMARY:Anointing Service
DESCRIPTION:
URL:https://dunamisgospel.org/calendar/anointing-service/2026-06-14/
ATTACH;FMTTYPE=image/jpeg:https://dunamisgospel.org/wp-content/uploads/2024/12/IMG_3603.jpg
END:VEVENT
BEGIN:VEVENT
DTSTART;TZID=Africa/Lagos:20260616T093000
DTEND;TZID=Africa/Lagos:20260616T123000
DTSTAMP:20260423T174941
CREATED:20250109T231128Z
LAST-MODIFIED:20250109T231128Z
UID:10001226-1781602200-1781613000@dunamisgospel.org
SUMMARY:Healing and Deliverance Service
DESCRIPTION:
URL:https://dunamisgospel.org/calendar/healing-and-deliverance-service/2026-06-16/
ATTACH;FMTTYPE=image/jpeg:https://dunamisgospel.org/wp-content/uploads/2024/12/IMG_3608.jpg
END:VEVENT
BEGIN:VEVENT
DTSTART;TZID=Africa/Lagos:20260617T173000
DTEND;TZID=Africa/Lagos:20260617T203000
DTSTAMP:20260423T174941
CREATED:20250107T201154Z
LAST-MODIFIED:20250109T230000Z
UID:10000463-1781717400-1781728200@dunamisgospel.org
SUMMARY:Power Communion Service
DESCRIPTION:
URL:https://dunamisgospel.org/calendar/power-communion-service/2026-06-17/
ATTACH;FMTTYPE=image/jpeg:https://dunamisgospel.org/wp-content/uploads/2024/12/IMG_3606.jpg
END:VEVENT
BEGIN:VEVENT
DTSTART;TZID=Africa/Lagos:20260621T063000
DTEND;TZID=Africa/Lagos:20260621T123000
DTSTAMP:20260423T174941
CREATED:20250109T231514Z
LAST-MODIFIED:20250109T231514Z
UID:10001430-1782023400-1782045000@dunamisgospel.org
SUMMARY:Impartation Service
DESCRIPTION:
URL:https://dunamisgospel.org/calendar/impartation-service/2026-06-21/
ATTACH;FMTTYPE=image/jpeg:https://dunamisgospel.org/wp-content/uploads/2024/12/IMG_3609.jpg
END:VEVENT
BEGIN:VEVENT
DTSTART;TZID=Africa/Lagos:20260623T093000
DTEND;TZID=Africa/Lagos:20260623T123000
DTSTAMP:20260423T174941
CREATED:20250109T231128Z
LAST-MODIFIED:20250109T231128Z
UID:10001227-1782207000-1782217800@dunamisgospel.org
SUMMARY:Healing and Deliverance Service
DESCRIPTION:
URL:https://dunamisgospel.org/calendar/healing-and-deliverance-service/2026-06-23/
ATTACH;FMTTYPE=image/jpeg:https://dunamisgospel.org/wp-content/uploads/2024/12/IMG_3608.jpg
END:VEVENT
BEGIN:VEVENT
DTSTART;TZID=Africa/Lagos:20260624T173000
DTEND;TZID=Africa/Lagos:20260624T203000
DTSTAMP:20260423T174941
CREATED:20250107T201154Z
LAST-MODIFIED:20250109T230000Z
UID:10000464-1782322200-1782333000@dunamisgospel.org
SUMMARY:Power Communion Service
DESCRIPTION:
URL:https://dunamisgospel.org/calendar/power-communion-service/2026-06-24/
ATTACH;FMTTYPE=image/jpeg:https://dunamisgospel.org/wp-content/uploads/2024/12/IMG_3606.jpg
END:VEVENT
BEGIN:VEVENT
DTSTART;TZID=Africa/Lagos:20260628T063000
DTEND;TZID=Africa/Lagos:20260628T123000
DTSTAMP:20260423T174941
CREATED:20250109T231636Z
LAST-MODIFIED:20250109T231636Z
UID:10001490-1782628200-1782649800@dunamisgospel.org
SUMMARY:Testimonies and Thanksgiving Service
DESCRIPTION:
URL:https://dunamisgospel.org/calendar/testimonies-and-thanksgiving-service/2026-06-28/
ATTACH;FMTTYPE=image/jpeg:https://dunamisgospel.org/wp-content/uploads/2024/12/IMG_3607.jpg
END:VEVENT
BEGIN:VEVENT
DTSTART;TZID=Africa/Lagos:20260630T093000
DTEND;TZID=Africa/Lagos:20260630T123000
DTSTAMP:20260423T174941
CREATED:20250109T231128Z
LAST-MODIFIED:20250109T231128Z
UID:10001228-1782811800-1782822600@dunamisgospel.org
SUMMARY:Healing and Deliverance Service
DESCRIPTION:
URL:https://dunamisgospel.org/calendar/healing-and-deliverance-service/2026-06-30/
ATTACH;FMTTYPE=image/jpeg:https://dunamisgospel.org/wp-content/uploads/2024/12/IMG_3608.jpg
END:VEVENT
END:VCALENDAR