BEGIN:VCALENDAR
VERSION:2.0
PRODID:-//Dunamis International Gospel Centre - ECPv6.15.17//NONSGML v1.0//EN
CALSCALE:GREGORIAN
METHOD:PUBLISH
X-ORIGINAL-URL:https://dunamisgospel.org
X-WR-CALDESC:Events for Dunamis International Gospel Centre
REFRESH-INTERVAL;VALUE=DURATION:PT1H
X-Robots-Tag:noindex
X-PUBLISHED-TTL:PT1H
BEGIN:VTIMEZONE
TZID:Africa/Lagos
BEGIN:STANDARD
TZOFFSETFROM:+0100
TZOFFSETTO:+0100
TZNAME:WAT
DTSTART:20250101T000000
END:STANDARD
END:VTIMEZONE
BEGIN:VEVENT
DTSTART;TZID=Africa/Lagos:20260503T063000
DTEND;TZID=Africa/Lagos:20260503T123000
DTSTAMP:20260423T161906
CREATED:20250109T230346Z
LAST-MODIFIED:20250109T230346Z
UID:10000666-1777789800-1777811400@dunamisgospel.org
SUMMARY:Blessing Sunday Service
DESCRIPTION:
URL:https://dunamisgospel.org/calendar/blessing-sunday-service/2026-05-03/
ATTACH;FMTTYPE=image/jpeg:https://dunamisgospel.org/wp-content/uploads/2024/12/IMG_3605.jpg
END:VEVENT
BEGIN:VEVENT
DTSTART;TZID=Africa/Lagos:20260505T093000
DTEND;TZID=Africa/Lagos:20260505T123000
DTSTAMP:20260423T161906
CREATED:20250109T231128Z
LAST-MODIFIED:20250109T231128Z
UID:10001220-1777973400-1777984200@dunamisgospel.org
SUMMARY:Healing and Deliverance Service
DESCRIPTION:
URL:https://dunamisgospel.org/calendar/healing-and-deliverance-service/2026-05-05/
ATTACH;FMTTYPE=image/jpeg:https://dunamisgospel.org/wp-content/uploads/2024/12/IMG_3608.jpg
END:VEVENT
BEGIN:VEVENT
DTSTART;TZID=Africa/Lagos:20260506T173000
DTEND;TZID=Africa/Lagos:20260506T203000
DTSTAMP:20260423T161906
CREATED:20250107T201154Z
LAST-MODIFIED:20250109T230000Z
UID:10000457-1778088600-1778099400@dunamisgospel.org
SUMMARY:Power Communion Service
DESCRIPTION:
URL:https://dunamisgospel.org/calendar/power-communion-service/2026-05-06/
ATTACH;FMTTYPE=image/jpeg:https://dunamisgospel.org/wp-content/uploads/2024/12/IMG_3606.jpg
END:VEVENT
BEGIN:VEVENT
DTSTART;TZID=Africa/Lagos:20260510T063000
DTEND;TZID=Africa/Lagos:20260510T123000
DTSTAMP:20260423T161906
CREATED:20250107T211403Z
LAST-MODIFIED:20250109T230958Z
UID:10001108-1778394600-1778416200@dunamisgospel.org
SUMMARY:Anointing Service
DESCRIPTION:
URL:https://dunamisgospel.org/calendar/anointing-service/2026-05-10/
ATTACH;FMTTYPE=image/jpeg:https://dunamisgospel.org/wp-content/uploads/2024/12/IMG_3603.jpg
END:VEVENT
BEGIN:VEVENT
DTSTART;TZID=Africa/Lagos:20260512T093000
DTEND;TZID=Africa/Lagos:20260512T123000
DTSTAMP:20260423T161906
CREATED:20250109T231128Z
LAST-MODIFIED:20250109T231128Z
UID:10001221-1778578200-1778589000@dunamisgospel.org
SUMMARY:Healing and Deliverance Service
DESCRIPTION:
URL:https://dunamisgospel.org/calendar/healing-and-deliverance-service/2026-05-12/
ATTACH;FMTTYPE=image/jpeg:https://dunamisgospel.org/wp-content/uploads/2024/12/IMG_3608.jpg
END:VEVENT
BEGIN:VEVENT
DTSTART;TZID=Africa/Lagos:20260513T173000
DTEND;TZID=Africa/Lagos:20260513T203000
DTSTAMP:20260423T161906
CREATED:20250107T201154Z
LAST-MODIFIED:20250109T230000Z
UID:10000458-1778693400-1778704200@dunamisgospel.org
SUMMARY:Power Communion Service
DESCRIPTION:
URL:https://dunamisgospel.org/calendar/power-communion-service/2026-05-13/
ATTACH;FMTTYPE=image/jpeg:https://dunamisgospel.org/wp-content/uploads/2024/12/IMG_3606.jpg
END:VEVENT
BEGIN:VEVENT
DTSTART;TZID=Africa/Lagos:20260517T063000
DTEND;TZID=Africa/Lagos:20260517T123000
DTSTAMP:20260423T161906
CREATED:20250109T231514Z
LAST-MODIFIED:20250109T231514Z
UID:10001429-1778999400-1779021000@dunamisgospel.org
SUMMARY:Impartation Service
DESCRIPTION:
URL:https://dunamisgospel.org/calendar/impartation-service/2026-05-17/
ATTACH;FMTTYPE=image/jpeg:https://dunamisgospel.org/wp-content/uploads/2024/12/IMG_3609.jpg
END:VEVENT
BEGIN:VEVENT
DTSTART;TZID=Africa/Lagos:20260519T093000
DTEND;TZID=Africa/Lagos:20260519T123000
DTSTAMP:20260423T161906
CREATED:20250109T231128Z
LAST-MODIFIED:20250109T231128Z
UID:10001222-1779183000-1779193800@dunamisgospel.org
SUMMARY:Healing and Deliverance Service
DESCRIPTION:
URL:https://dunamisgospel.org/calendar/healing-and-deliverance-service/2026-05-19/
ATTACH;FMTTYPE=image/jpeg:https://dunamisgospel.org/wp-content/uploads/2024/12/IMG_3608.jpg
END:VEVENT
BEGIN:VEVENT
DTSTART;TZID=Africa/Lagos:20260520T173000
DTEND;TZID=Africa/Lagos:20260520T203000
DTSTAMP:20260423T161906
CREATED:20250107T201154Z
LAST-MODIFIED:20250109T230000Z
UID:10000459-1779298200-1779309000@dunamisgospel.org
SUMMARY:Power Communion Service
DESCRIPTION:
URL:https://dunamisgospel.org/calendar/power-communion-service/2026-05-20/
ATTACH;FMTTYPE=image/jpeg:https://dunamisgospel.org/wp-content/uploads/2024/12/IMG_3606.jpg
END:VEVENT
BEGIN:VEVENT
DTSTART;TZID=Africa/Lagos:20260524T063000
DTEND;TZID=Africa/Lagos:20260524T123000
DTSTAMP:20260423T161906
CREATED:20250109T231636Z
LAST-MODIFIED:20250109T231636Z
UID:10001489-1779604200-1779625800@dunamisgospel.org
SUMMARY:Testimonies and Thanksgiving Service
DESCRIPTION:
URL:https://dunamisgospel.org/calendar/testimonies-and-thanksgiving-service/2026-05-24/
ATTACH;FMTTYPE=image/jpeg:https://dunamisgospel.org/wp-content/uploads/2024/12/IMG_3607.jpg
END:VEVENT
BEGIN:VEVENT
DTSTART;TZID=Africa/Lagos:20260526T093000
DTEND;TZID=Africa/Lagos:20260526T123000
DTSTAMP:20260423T161906
CREATED:20250109T231128Z
LAST-MODIFIED:20250109T231128Z
UID:10001223-1779787800-1779798600@dunamisgospel.org
SUMMARY:Healing and Deliverance Service
DESCRIPTION:
URL:https://dunamisgospel.org/calendar/healing-and-deliverance-service/2026-05-26/
ATTACH;FMTTYPE=image/jpeg:https://dunamisgospel.org/wp-content/uploads/2024/12/IMG_3608.jpg
END:VEVENT
BEGIN:VEVENT
DTSTART;TZID=Africa/Lagos:20260527T173000
DTEND;TZID=Africa/Lagos:20260527T203000
DTSTAMP:20260423T161906
CREATED:20250107T201154Z
LAST-MODIFIED:20250109T230000Z
UID:10000460-1779903000-1779913800@dunamisgospel.org
SUMMARY:Power Communion Service
DESCRIPTION:
URL:https://dunamisgospel.org/calendar/power-communion-service/2026-05-27/
ATTACH;FMTTYPE=image/jpeg:https://dunamisgospel.org/wp-content/uploads/2024/12/IMG_3606.jpg
END:VEVENT
END:VCALENDAR