BEGIN:VCALENDAR
VERSION:2.0
PRODID:-//Dunamis International Gospel Centre - ECPv6.15.17//NONSGML v1.0//EN
CALSCALE:GREGORIAN
METHOD:PUBLISH
X-ORIGINAL-URL:https://dunamisgospel.org
X-WR-CALDESC:Events for Dunamis International Gospel Centre
REFRESH-INTERVAL;VALUE=DURATION:PT1H
X-Robots-Tag:noindex
X-PUBLISHED-TTL:PT1H
BEGIN:VTIMEZONE
TZID:Africa/Lagos
BEGIN:STANDARD
TZOFFSETFROM:+0100
TZOFFSETTO:+0100
TZNAME:WAT
DTSTART:20250101T000000
END:STANDARD
END:VTIMEZONE
BEGIN:VEVENT
DTSTART;TZID=Africa/Lagos:20260301T063000
DTEND;TZID=Africa/Lagos:20260301T123000
DTSTAMP:20260423T175145
CREATED:20250109T230346Z
LAST-MODIFIED:20250109T230346Z
UID:10000664-1772346600-1772368200@dunamisgospel.org
SUMMARY:Blessing Sunday Service
DESCRIPTION:
URL:https://dunamisgospel.org/calendar/blessing-sunday-service/2026-03-01/
ATTACH;FMTTYPE=image/jpeg:https://dunamisgospel.org/wp-content/uploads/2024/12/IMG_3605.jpg
END:VEVENT
BEGIN:VEVENT
DTSTART;TZID=Africa/Lagos:20260301T170000
DTEND;TZID=Africa/Lagos:20260302T220000
DTSTAMP:20260423T175145
CREATED:20260227T165442Z
LAST-MODIFIED:20260227T165442Z
UID:10002411-1772384400-1772488800@dunamisgospel.org
SUMMARY:Bayelsa Healing And Deliverance Crusade
DESCRIPTION:THEME: The God of Mercy \nVENUE: Oxbow-Lake Field\, Swali\, Yenegoa\, Bayelsa State. \nDATE: 1st-2nd March\, 2026. \nTime: 5.00pm daily. \nWITH SPECIAL COMMANDING THE DAY MIDNIGHT PRAYER \nLIVE FROM BAYELSA\, 11.00pm GMT+1
URL:https://dunamisgospel.org/calendar/bayelsa-healing-and-deliverance-crusade/
ATTACH;FMTTYPE=image/jpeg:https://dunamisgospel.org/wp-content/uploads/2026/02/BAYELSA-CRUSADE-DESK_123339.jpg-1.jpeg
ORGANIZER;CN="DUNAMIS INT'L GOSPEL CENTER":MAILTO:info@dunamisgospel.org
END:VEVENT
BEGIN:VEVENT
DTSTART;TZID=Africa/Lagos:20260303T093000
DTEND;TZID=Africa/Lagos:20260303T123000
DTSTAMP:20260423T175145
CREATED:20250109T231128Z
LAST-MODIFIED:20250109T231128Z
UID:10001211-1772530200-1772541000@dunamisgospel.org
SUMMARY:Healing and Deliverance Service
DESCRIPTION:
URL:https://dunamisgospel.org/calendar/healing-and-deliverance-service/2026-03-03/
ATTACH;FMTTYPE=image/jpeg:https://dunamisgospel.org/wp-content/uploads/2024/12/IMG_3608.jpg
END:VEVENT
BEGIN:VEVENT
DTSTART;TZID=Africa/Lagos:20260303T170000
DTEND;TZID=Africa/Lagos:20260304T170000
DTSTAMP:20260423T175145
CREATED:20260227T170534Z
LAST-MODIFIED:20260227T170534Z
UID:10002412-1772557200-1772643600@dunamisgospel.org
SUMMARY:Onitsha Healing And Deliverance Crusade
DESCRIPTION:THEME: The God of Mercy \nVENUE: Chuba Ikpeazu Stadium\, Awka Road\, Onitsha. \nDATE: 3rd-4th March\, 2026. \nTime: 5.00pm daily. \nWITH SPECIAL COMMANDING THE DAY MIDNIGHT PRAYER \nLIVE FROM ONITSHA\, 11.00pm GMT+1
URL:https://dunamisgospel.org/calendar/onitsha-healing-and-deliverance-crusade/
ATTACH;FMTTYPE=image/jpeg:https://dunamisgospel.org/wp-content/uploads/2026/02/ONITSHA-CRUSADE-DESK_031937.jpg-1.jpeg
ORGANIZER;CN="DUNAMIS INT'L GOSPEL CENTER":MAILTO:info@dunamisgospel.org
END:VEVENT
BEGIN:VEVENT
DTSTART;TZID=Africa/Lagos:20260304T173000
DTEND;TZID=Africa/Lagos:20260304T203000
DTSTAMP:20260423T175145
CREATED:20250107T201154Z
LAST-MODIFIED:20250109T230000Z
UID:10000448-1772645400-1772656200@dunamisgospel.org
SUMMARY:Power Communion Service
DESCRIPTION:
URL:https://dunamisgospel.org/calendar/power-communion-service/2026-03-04/
ATTACH;FMTTYPE=image/jpeg:https://dunamisgospel.org/wp-content/uploads/2024/12/IMG_3606.jpg
END:VEVENT
BEGIN:VEVENT
DTSTART;TZID=Africa/Lagos:20260305T170000
DTEND;TZID=Africa/Lagos:20260307T223000
DTSTAMP:20260423T175145
CREATED:20260130T144818Z
LAST-MODIFIED:20260130T144818Z
UID:10002410-1772730000-1772922600@dunamisgospel.org
SUMMARY:Edo Healing and Deliverance Crusade
DESCRIPTION:VENUE: Carrick Memorial Ground\, Opp. University of Benin\,  Ekewan Campus\, Benin City. \nDATE: 5th – 7th March\, 2026. \nTime: 5.00pm daily. \nWITH SPECIAL COMMANDING THE DAY MIDNIGHT PRAYER \nLIVE FROM Benin City\, 11.00pm GMT+1
URL:https://dunamisgospel.org/calendar/edo-healing-and-deliverance-crusade/
ATTACH;FMTTYPE=image/jpeg:https://dunamisgospel.org/wp-content/uploads/2026/01/Edo-crusade-2.jpeg
ORGANIZER;CN="DUNAMIS INT'L GOSPEL CENTER":MAILTO:info@dunamisgospel.org
END:VEVENT
BEGIN:VEVENT
DTSTART;TZID=Africa/Lagos:20260308T063000
DTEND;TZID=Africa/Lagos:20260308T123000
DTSTAMP:20260423T175145
CREATED:20250107T211403Z
LAST-MODIFIED:20250109T230958Z
UID:10001106-1772951400-1772973000@dunamisgospel.org
SUMMARY:Anointing Service
DESCRIPTION:
URL:https://dunamisgospel.org/calendar/anointing-service/2026-03-08/
ATTACH;FMTTYPE=image/jpeg:https://dunamisgospel.org/wp-content/uploads/2024/12/IMG_3603.jpg
END:VEVENT
BEGIN:VEVENT
DTSTART;TZID=Africa/Lagos:20260310T093000
DTEND;TZID=Africa/Lagos:20260310T123000
DTSTAMP:20260423T175145
CREATED:20250109T231128Z
LAST-MODIFIED:20250109T231128Z
UID:10001212-1773135000-1773145800@dunamisgospel.org
SUMMARY:Healing and Deliverance Service
DESCRIPTION:
URL:https://dunamisgospel.org/calendar/healing-and-deliverance-service/2026-03-10/
ATTACH;FMTTYPE=image/jpeg:https://dunamisgospel.org/wp-content/uploads/2024/12/IMG_3608.jpg
END:VEVENT
BEGIN:VEVENT
DTSTART;TZID=Africa/Lagos:20260311T173000
DTEND;TZID=Africa/Lagos:20260311T203000
DTSTAMP:20260423T175145
CREATED:20250107T201154Z
LAST-MODIFIED:20250109T230000Z
UID:10000449-1773250200-1773261000@dunamisgospel.org
SUMMARY:Power Communion Service
DESCRIPTION:
URL:https://dunamisgospel.org/calendar/power-communion-service/2026-03-11/
ATTACH;FMTTYPE=image/jpeg:https://dunamisgospel.org/wp-content/uploads/2024/12/IMG_3606.jpg
END:VEVENT
BEGIN:VEVENT
DTSTART;TZID=Africa/Lagos:20260315T063000
DTEND;TZID=Africa/Lagos:20260315T123000
DTSTAMP:20260423T175145
CREATED:20250109T231514Z
LAST-MODIFIED:20250109T231514Z
UID:10001427-1773556200-1773577800@dunamisgospel.org
SUMMARY:Impartation Service
DESCRIPTION:
URL:https://dunamisgospel.org/calendar/impartation-service/2026-03-15/
ATTACH;FMTTYPE=image/jpeg:https://dunamisgospel.org/wp-content/uploads/2024/12/IMG_3609.jpg
END:VEVENT
BEGIN:VEVENT
DTSTART;TZID=Africa/Lagos:20260317T093000
DTEND;TZID=Africa/Lagos:20260317T123000
DTSTAMP:20260423T175145
CREATED:20250109T231128Z
LAST-MODIFIED:20250109T231128Z
UID:10001213-1773739800-1773750600@dunamisgospel.org
SUMMARY:Healing and Deliverance Service
DESCRIPTION:
URL:https://dunamisgospel.org/calendar/healing-and-deliverance-service/2026-03-17/
ATTACH;FMTTYPE=image/jpeg:https://dunamisgospel.org/wp-content/uploads/2024/12/IMG_3608.jpg
END:VEVENT
BEGIN:VEVENT
DTSTART;TZID=Africa/Lagos:20260317T170000
DTEND;TZID=Africa/Lagos:20260319T220000
DTSTAMP:20260423T175145
CREATED:20260314T224320Z
LAST-MODIFIED:20260314T224408Z
UID:10002413-1773766800-1773957600@dunamisgospel.org
SUMMARY:Aba Healing And Deliverance Crusade
DESCRIPTION:Venue: Ogbonnaya Onu Polytechnic\, Aba (Formerly Abia State Polytechnic). \nDate: 17th – 19th March\, 2026. \nTheme: The God of Mercy \nTime: 5.00pm daily. \nWITH SPECIAL COMMANDING THE DAY MIDNIGHT PRAYER \nLIVE FROM ABA\, 11.00pm GMT+1
URL:https://dunamisgospel.org/calendar/aba-healing-and-deliverance-crusade/
ATTACH;FMTTYPE=image/jpeg:https://dunamisgospel.org/wp-content/uploads/2026/03/Aba-HDC-1400x500.jpg-1.jpeg
ORGANIZER;CN="DUNAMIS INT'L GOSPEL CENTER":MAILTO:info@dunamisgospel.org
END:VEVENT
BEGIN:VEVENT
DTSTART;TZID=Africa/Lagos:20260318T173000
DTEND;TZID=Africa/Lagos:20260318T203000
DTSTAMP:20260423T175145
CREATED:20250107T201154Z
LAST-MODIFIED:20250109T230000Z
UID:10000450-1773855000-1773865800@dunamisgospel.org
SUMMARY:Power Communion Service
DESCRIPTION:
URL:https://dunamisgospel.org/calendar/power-communion-service/2026-03-18/
ATTACH;FMTTYPE=image/jpeg:https://dunamisgospel.org/wp-content/uploads/2024/12/IMG_3606.jpg
END:VEVENT
BEGIN:VEVENT
DTSTART;TZID=Africa/Lagos:20260319T170000
DTEND;TZID=Africa/Lagos:20260320T220000
DTSTAMP:20260423T175145
CREATED:20260314T225049Z
LAST-MODIFIED:20260314T225049Z
UID:10002414-1773939600-1774044000@dunamisgospel.org
SUMMARY:Umuahia Healing and Deliverance Crusade
DESCRIPTION:Venue:  Umuahia Township Stadium\, Umuahia\,  Abia. \nDate: 19th – 20th March\, 2026. \nTheme: The God of Mercy \nTime: 5.00pm daily. \nWITH SPECIAL COMMANDING THE DAY MIDNIGHT PRAYER \nLIVE FROM Umuahia\, 11.00pm GMT+1
URL:https://dunamisgospel.org/calendar/umuahia-healing-and-deliverance-crusade/
ATTACH;FMTTYPE=image/jpeg:https://dunamisgospel.org/wp-content/uploads/2026/03/Umuahia-HDC-1400x500.jpg-1.jpeg
ORGANIZER;CN="DUNAMIS INT'L GOSPEL CENTER":MAILTO:info@dunamisgospel.org
END:VEVENT
BEGIN:VEVENT
DTSTART;TZID=Africa/Lagos:20260322T063000
DTEND;TZID=Africa/Lagos:20260322T123000
DTSTAMP:20260423T175145
CREATED:20250109T231636Z
LAST-MODIFIED:20250109T231636Z
UID:10001487-1774161000-1774182600@dunamisgospel.org
SUMMARY:Testimonies and Thanksgiving Service
DESCRIPTION:
URL:https://dunamisgospel.org/calendar/testimonies-and-thanksgiving-service/2026-03-22/
ATTACH;FMTTYPE=image/jpeg:https://dunamisgospel.org/wp-content/uploads/2024/12/IMG_3607.jpg
END:VEVENT
BEGIN:VEVENT
DTSTART;TZID=Africa/Lagos:20260324T093000
DTEND;TZID=Africa/Lagos:20260324T123000
DTSTAMP:20260423T175145
CREATED:20250109T231128Z
LAST-MODIFIED:20250109T231128Z
UID:10001214-1774344600-1774355400@dunamisgospel.org
SUMMARY:Healing and Deliverance Service
DESCRIPTION:
URL:https://dunamisgospel.org/calendar/healing-and-deliverance-service/2026-03-24/
ATTACH;FMTTYPE=image/jpeg:https://dunamisgospel.org/wp-content/uploads/2024/12/IMG_3608.jpg
END:VEVENT
BEGIN:VEVENT
DTSTART;TZID=Africa/Lagos:20260325T173000
DTEND;TZID=Africa/Lagos:20260325T203000
DTSTAMP:20260423T175145
CREATED:20250107T201154Z
LAST-MODIFIED:20250109T230000Z
UID:10000451-1774459800-1774470600@dunamisgospel.org
SUMMARY:Power Communion Service
DESCRIPTION:
URL:https://dunamisgospel.org/calendar/power-communion-service/2026-03-25/
ATTACH;FMTTYPE=image/jpeg:https://dunamisgospel.org/wp-content/uploads/2024/12/IMG_3606.jpg
END:VEVENT
BEGIN:VEVENT
DTSTART;TZID=Africa/Lagos:20260327T213000
DTEND;TZID=Africa/Lagos:20260328T050000
DTSTAMP:20260423T175145
CREATED:20260314T225950Z
LAST-MODIFIED:20260314T225950Z
UID:10002415-1774647000-1774674000@dunamisgospel.org
SUMMARY:March Worship\, Word And Wonders Night
DESCRIPTION:Date: 27th March\, 2026 \nVenue: The Glory Dome\, Airport Road Abuja\, 9:30 PM
URL:https://dunamisgospel.org/calendar/march-worship-word-and-wonders-night/
LOCATION:Glory Dome
ATTACH;FMTTYPE=image/jpeg:https://dunamisgospel.org/wp-content/uploads/2026/03/MARCH-WWWN-1400x500.jpg-1.jpeg
ORGANIZER;CN="DUNAMIS INT'L GOSPEL CENTER":MAILTO:info@dunamisgospel.org
END:VEVENT
BEGIN:VEVENT
DTSTART;TZID=Africa/Lagos:20260331T093000
DTEND;TZID=Africa/Lagos:20260331T123000
DTSTAMP:20260423T175145
CREATED:20250109T231128Z
LAST-MODIFIED:20250109T231128Z
UID:10001215-1774949400-1774960200@dunamisgospel.org
SUMMARY:Healing and Deliverance Service
DESCRIPTION:
URL:https://dunamisgospel.org/calendar/healing-and-deliverance-service/2026-03-31/
ATTACH;FMTTYPE=image/jpeg:https://dunamisgospel.org/wp-content/uploads/2024/12/IMG_3608.jpg
END:VEVENT
END:VCALENDAR