BEGIN:VCALENDAR
VERSION:2.0
PRODID:-//Dunamis International Gospel Centre - ECPv6.15.17//NONSGML v1.0//EN
CALSCALE:GREGORIAN
METHOD:PUBLISH
X-WR-CALNAME:Dunamis International Gospel Centre
X-ORIGINAL-URL:https://dunamisgospel.org
X-WR-CALDESC:Events for Dunamis International Gospel Centre
REFRESH-INTERVAL;VALUE=DURATION:PT1H
X-Robots-Tag:noindex
X-PUBLISHED-TTL:PT1H
BEGIN:VTIMEZONE
TZID:Africa/Lagos
BEGIN:STANDARD
TZOFFSETFROM:+0100
TZOFFSETTO:+0100
TZNAME:WAT
DTSTART:20250101T000000
END:STANDARD
END:VTIMEZONE
BEGIN:VEVENT
DTSTART;TZID=Africa/Lagos:20260201T063000
DTEND;TZID=Africa/Lagos:20260201T123000
DTSTAMP:20260423T175147
CREATED:20250109T230346Z
LAST-MODIFIED:20250109T230346Z
UID:10000663-1769927400-1769949000@dunamisgospel.org
SUMMARY:Blessing Sunday Service
DESCRIPTION:
URL:https://dunamisgospel.org/calendar/blessing-sunday-service/2026-02-01/
ATTACH;FMTTYPE=image/jpeg:https://dunamisgospel.org/wp-content/uploads/2024/12/IMG_3605.jpg
END:VEVENT
BEGIN:VEVENT
DTSTART;TZID=Africa/Lagos:20260202T170000
DTEND;TZID=Africa/Lagos:20260203T230000
DTSTAMP:20260423T175147
CREATED:20260129T165749Z
LAST-MODIFIED:20260129T165847Z
UID:10002409-1770051600-1770159600@dunamisgospel.org
SUMMARY:Ankpa Healing and Deliverance Crusade
DESCRIPTION:THEME: The God Of Mercy \nVENUE: Kogi State College Of Education Convocation Ground\, Ankpa. \nDATE: 2nd- 3rd February\, 2026. \nTime: 5.00pm daily. \nWITH SPECIAL COMMANDING THE DAY MIDNIGHT PRAYER \nLIVE FROM ANKPA\, 11.00pm GMT+1
URL:https://dunamisgospel.org/calendar/ankpa-healing-and-deliverance-crusade/
ATTACH;FMTTYPE=image/jpeg:https://dunamisgospel.org/wp-content/uploads/2026/01/ANKPA-HDC-LAND.jpg-1.jpeg
ORGANIZER;CN="DUNAMIS INT'L GOSPEL CENTER":MAILTO:info@dunamisgospel.org
END:VEVENT
BEGIN:VEVENT
DTSTART;TZID=Africa/Lagos:20260203T093000
DTEND;TZID=Africa/Lagos:20260203T123000
DTSTAMP:20260423T175147
CREATED:20250109T231128Z
LAST-MODIFIED:20250109T231128Z
UID:10001207-1770111000-1770121800@dunamisgospel.org
SUMMARY:Healing and Deliverance Service
DESCRIPTION:
URL:https://dunamisgospel.org/calendar/healing-and-deliverance-service/2026-02-03/
ATTACH;FMTTYPE=image/jpeg:https://dunamisgospel.org/wp-content/uploads/2024/12/IMG_3608.jpg
END:VEVENT
BEGIN:VEVENT
DTSTART;TZID=Africa/Lagos:20260204T173000
DTEND;TZID=Africa/Lagos:20260204T203000
DTSTAMP:20260423T175147
CREATED:20250107T201154Z
LAST-MODIFIED:20250109T230000Z
UID:10000444-1770226200-1770237000@dunamisgospel.org
SUMMARY:Power Communion Service
DESCRIPTION:
URL:https://dunamisgospel.org/calendar/power-communion-service/2026-02-04/
ATTACH;FMTTYPE=image/jpeg:https://dunamisgospel.org/wp-content/uploads/2024/12/IMG_3606.jpg
END:VEVENT
BEGIN:VEVENT
DTSTART;TZID=Africa/Lagos:20260208T063000
DTEND;TZID=Africa/Lagos:20260208T123000
DTSTAMP:20260423T175147
CREATED:20250107T211403Z
LAST-MODIFIED:20250109T230958Z
UID:10001105-1770532200-1770553800@dunamisgospel.org
SUMMARY:Anointing Service
DESCRIPTION:
URL:https://dunamisgospel.org/calendar/anointing-service/2026-02-08/
ATTACH;FMTTYPE=image/jpeg:https://dunamisgospel.org/wp-content/uploads/2024/12/IMG_3603.jpg
END:VEVENT
BEGIN:VEVENT
DTSTART;TZID=Africa/Lagos:20260210T093000
DTEND;TZID=Africa/Lagos:20260210T123000
DTSTAMP:20260423T175147
CREATED:20250109T231128Z
LAST-MODIFIED:20250109T231128Z
UID:10001208-1770715800-1770726600@dunamisgospel.org
SUMMARY:Healing and Deliverance Service
DESCRIPTION:
URL:https://dunamisgospel.org/calendar/healing-and-deliverance-service/2026-02-10/
ATTACH;FMTTYPE=image/jpeg:https://dunamisgospel.org/wp-content/uploads/2024/12/IMG_3608.jpg
END:VEVENT
BEGIN:VEVENT
DTSTART;TZID=Africa/Lagos:20260211T173000
DTEND;TZID=Africa/Lagos:20260211T203000
DTSTAMP:20260423T175147
CREATED:20250107T201154Z
LAST-MODIFIED:20250109T230000Z
UID:10000445-1770831000-1770841800@dunamisgospel.org
SUMMARY:Power Communion Service
DESCRIPTION:
URL:https://dunamisgospel.org/calendar/power-communion-service/2026-02-11/
ATTACH;FMTTYPE=image/jpeg:https://dunamisgospel.org/wp-content/uploads/2024/12/IMG_3606.jpg
END:VEVENT
BEGIN:VEVENT
DTSTART;TZID=Africa/Lagos:20260215T063000
DTEND;TZID=Africa/Lagos:20260215T123000
DTSTAMP:20260423T175147
CREATED:20250109T231514Z
LAST-MODIFIED:20250109T231514Z
UID:10001426-1771137000-1771158600@dunamisgospel.org
SUMMARY:Impartation Service
DESCRIPTION:
URL:https://dunamisgospel.org/calendar/impartation-service/2026-02-15/
ATTACH;FMTTYPE=image/jpeg:https://dunamisgospel.org/wp-content/uploads/2024/12/IMG_3609.jpg
END:VEVENT
BEGIN:VEVENT
DTSTART;TZID=Africa/Lagos:20260217T093000
DTEND;TZID=Africa/Lagos:20260217T123000
DTSTAMP:20260423T175147
CREATED:20250109T231128Z
LAST-MODIFIED:20250109T231128Z
UID:10001209-1771320600-1771331400@dunamisgospel.org
SUMMARY:Healing and Deliverance Service
DESCRIPTION:
URL:https://dunamisgospel.org/calendar/healing-and-deliverance-service/2026-02-17/
ATTACH;FMTTYPE=image/jpeg:https://dunamisgospel.org/wp-content/uploads/2024/12/IMG_3608.jpg
END:VEVENT
BEGIN:VEVENT
DTSTART;TZID=Africa/Lagos:20260218T173000
DTEND;TZID=Africa/Lagos:20260218T203000
DTSTAMP:20260423T175147
CREATED:20250107T201154Z
LAST-MODIFIED:20250109T230000Z
UID:10000446-1771435800-1771446600@dunamisgospel.org
SUMMARY:Power Communion Service
DESCRIPTION:
URL:https://dunamisgospel.org/calendar/power-communion-service/2026-02-18/
ATTACH;FMTTYPE=image/jpeg:https://dunamisgospel.org/wp-content/uploads/2024/12/IMG_3606.jpg
END:VEVENT
BEGIN:VEVENT
DTSTART;TZID=Africa/Lagos:20260222T063000
DTEND;TZID=Africa/Lagos:20260222T123000
DTSTAMP:20260423T175147
CREATED:20250109T231636Z
LAST-MODIFIED:20250109T231636Z
UID:10001486-1771741800-1771763400@dunamisgospel.org
SUMMARY:Testimonies and Thanksgiving Service
DESCRIPTION:
URL:https://dunamisgospel.org/calendar/testimonies-and-thanksgiving-service/2026-02-22/
ATTACH;FMTTYPE=image/jpeg:https://dunamisgospel.org/wp-content/uploads/2024/12/IMG_3607.jpg
END:VEVENT
BEGIN:VEVENT
DTSTART;TZID=Africa/Lagos:20260224T093000
DTEND;TZID=Africa/Lagos:20260224T123000
DTSTAMP:20260423T175147
CREATED:20250109T231128Z
LAST-MODIFIED:20250109T231128Z
UID:10001210-1771925400-1771936200@dunamisgospel.org
SUMMARY:Healing and Deliverance Service
DESCRIPTION:
URL:https://dunamisgospel.org/calendar/healing-and-deliverance-service/2026-02-24/
ATTACH;FMTTYPE=image/jpeg:https://dunamisgospel.org/wp-content/uploads/2024/12/IMG_3608.jpg
END:VEVENT
BEGIN:VEVENT
DTSTART;TZID=Africa/Lagos:20260225T173000
DTEND;TZID=Africa/Lagos:20260225T203000
DTSTAMP:20260423T175147
CREATED:20250107T201154Z
LAST-MODIFIED:20250109T230000Z
UID:10000447-1772040600-1772051400@dunamisgospel.org
SUMMARY:Power Communion Service
DESCRIPTION:
URL:https://dunamisgospel.org/calendar/power-communion-service/2026-02-25/
ATTACH;FMTTYPE=image/jpeg:https://dunamisgospel.org/wp-content/uploads/2024/12/IMG_3606.jpg
END:VEVENT
END:VCALENDAR